BEGIN:VCALENDAR
VERSION:2.0
PRODID:-//ChamberMaster//Event Calendar 2.0//EN
METHOD:PUBLISH
X-PUBLISHED-TTL:P3D
REFRESH-INTERVAL:P3D
CALSCALE:GREGORIAN
BEGIN:VEVENT
DTSTART:20180427T190000Z
DTEND:20180427T230000Z
X-MICROSOFT-CDO-ALLDAYEVENT:FALSE
SUMMARY:Training for Intervention Procedures (TIPS)
DESCRIPTION:Matador Cantina is hosting a TIPS training on Friday\, April 27th at 12:00 pm.  TIPS training educates bartenders and food servers on how to responsibly serve alcohol\, identify underage drinkers\, recognize signs of intoxication\, and utilize strategies to prevent alcohol-related problems. \n\n\n\nAbout TIPS \n\n\n\nNationally recognized responsible beverage service training program designed to:\n\n	prevent intoxication\, underage drinking and drunk driving\n	provide knowledge used to prevent alcohol-related problems\n	focus on responsible consumption at bars\, restaurants\, and hotels\n\nParticipants learn to:\n\n\n	recognize signs of intoxication\n	identify underage drinkers and prevent sales to minors\n	intervene quickly in alcohol-related problem situations with greater confidence\n	utilize strategies to prevent alcohol-related problems\n\nBenefit of TIPS Training:\n\n\n	decreased penalties for alcohol violations\n	increased customer satisfaction\n	reduced exposure to alcohol liability lawsuits\n	3-year certification
X-ALT-DESC;FMTTYPE=text/html:Matador Cantina is hosting a TIPS training on Friday\, April 27th at 12:00 pm.&nbsp\; TIPS training educates bartenders and food servers on how to responsibly serve alcohol\, identify underage drinkers\, recognize signs of intoxication\, and utilize strategies to prevent alcohol-related problems.&nbsp\;<br />\n<br />\n<strong>About TIPS&nbsp\;</strong><br />\n<br />\nNationally recognized responsible beverage service training program designed to:\n<ul>\n	<li>prevent intoxication\, underage drinking and drunk driving</li>\n	<li>provide knowledge used to prevent alcohol-related problems</li>\n	<li>focus on responsible consumption at bars\, restaurants\, and hotels</li>\n</ul>\nParticipants learn to:\n\n<ul>\n	<li>recognize signs of intoxication</li>\n	<li>identify underage drinkers and prevent sales to minors</li>\n	<li>intervene quickly in alcohol-related problem situations with greater confidence</li>\n	<li>utilize strategies to prevent alcohol-related problems</li>\n</ul>\nBenefit of TIPS Training:\n\n<ul>\n	<li>decreased penalties for alcohol violations</li>\n	<li>increased customer satisfaction</li>\n	<li>reduced exposure to alcohol liability lawsuits</li>\n	<li>3-year certification</li>\n</ul>\n
LOCATION:Matador Cantina 111 N Harbor Blvd\, Fullerton\, CA 92832
UID:e.887.21286
SEQUENCE:3
DTSTAMP:20260421T230633Z
URL:https://business.nocchamber.com/events/details/training-for-intervention-procedures-tips-21286
END:VEVENT

END:VCALENDAR
