BEGIN:VCALENDAR
VERSION:2.0
PRODID:-//ChamberMaster//Event Calendar 2.0//EN
METHOD:PUBLISH
X-PUBLISHED-TTL:P3D
REFRESH-INTERVAL:P3D
CALSCALE:GREGORIAN
BEGIN:VEVENT
DTSTART:20170405T200000Z
DTEND:20170406T003000Z
X-MICROSOFT-CDO-ALLDAYEVENT:FALSE
SUMMARY:Trade Connect Introductory Workshop
DESCRIPTION:Trade Connect Export Workshops cover the fundamentals of exporting\, including costs\, risks and steps. In cooperation with other agencies and professional associations\, this introductory program presents a summary of services which also includes the basics of the commercial transaction\, finding overseas markets\, trade financing\, documentation and logistics. \n\n\n\nThis workshop is beneficial for all those interested in learning about the export process\, including manufacturers\, suppliers\, intermediaries\, service providers\, prospective new exporters and entrepreneurs\, as well as export ready companies looking to expand their international business operations.
X-ALT-DESC;FMTTYPE=text/html:Trade&nbsp\;Connect Export Workshops cover the fundamentals of exporting\, including costs\, risks and steps. In cooperation with other agencies and professional associations\, this introductory program presents a summary of services which also includes the basics of the commercial transaction\, finding overseas markets\, trade financing\, documentation and logistics.&nbsp\;<br />\n<br />\nThis workshop is beneficial for all those interested in learning about the export process\, including manufacturers\, suppliers\, intermediaries\, service providers\, prospective new exporters and entrepreneurs\, as well as export ready companies looking to expand their international business operations.
LOCATION:City of Garden Grove Community Meeting Center 1130 Stanford Ave.\, Garden Grove\, CA 92840
UID:e.887.15649
SEQUENCE:3
DTSTAMP:20260421T161513Z
URL:https://business.nocchamber.com/events/details/trade-connect-introductory-workshop-15649
END:VEVENT

END:VCALENDAR
