BEGIN:VCALENDAR
VERSION:2.0
PRODID:-//ChamberMaster//Event Calendar 2.0//EN
METHOD:PUBLISH
X-PUBLISHED-TTL:P3D
REFRESH-INTERVAL:P3D
CALSCALE:GREGORIAN
BEGIN:VEVENT
DTSTART:20200806T190000Z
DTEND:20200806T200000Z
X-MICROSOFT-CDO-ALLDAYEVENT:FALSE
SUMMARY:Top Digital Marketing Trends to Generate More Quality Leads
DESCRIPTION:Discover how you can jump on the latest digital marketing trends to get an edge over your competition & generate more quality leads. In this informative webinar\, we'll explore the latest trends and provide some simple ideas for incorporating them into your overall marketing strategy. Leave with actionable items to help drive more sales.
X-ALT-DESC;FMTTYPE=text/html:<span style="font-size:14px\;"><span style="font-family: Arial\, Helvetica\, sans-serif\;" title="">Discover how you can jump on the latest digital marketing trends to get an edge over your competition &amp\; generate more quality leads. In this informative webinar\, we&rsquo\;ll explore the latest trends and provide some simple ideas for incorporating them into your overall marketing strategy. Leave with actionable items to help drive more sales.</span><span style="font-family: Arial\, Helvetica\, sans-serif\;">&nbsp\;</span></span>
LOCATION:Online Webinar
UID:e.887.24553
SEQUENCE:3
DTSTAMP:20260424T064406Z
URL:https://business.nocchamber.com/events/details/top-digital-marketing-trends-to-generate-more-quality-leads-24553
END:VEVENT

END:VCALENDAR
