BEGIN:VCALENDAR
VERSION:2.0
PRODID:-//ChamberMaster//Event Calendar 2.0//EN
METHOD:PUBLISH
X-PUBLISHED-TTL:P3D
REFRESH-INTERVAL:P3D
CALSCALE:GREGORIAN
BEGIN:VEVENT
DTSTART:20170524T160000Z
DTEND:20170524T183000Z
X-MICROSOFT-CDO-ALLDAYEVENT:FALSE
SUMMARY:Tips to Turn Your Cash Faster\, Less Borrowing and More Working Capital
DESCRIPTION:The U.S. Small Business Administration is hosting a workshop especially designed for small and medium size companies to show them how to turn their cash faster\, reduce borrowing and gain more working capital.
X-ALT-DESC;FMTTYPE=text/html:The U.S. Small Business Administration is hosting a workshop especially designed for small and medium size companies to show them how to turn their cash faster\, reduce borrowing and gain more working capital. &nbsp\;
LOCATION:Saddleback Room 200 Civic Center Mission Viejo\, CA 92691
UID:e.887.16151
SEQUENCE:3
DTSTAMP:20260421T050523Z
URL:https://business.nocchamber.com/events/details/tips-to-turn-your-cash-faster-less-borrowing-and-more-working-capital-16151
END:VEVENT

END:VCALENDAR
