BEGIN:VCALENDAR
VERSION:2.0
PRODID:-//ChamberMaster//Event Calendar 2.0//EN
METHOD:PUBLISH
X-PUBLISHED-TTL:P3D
REFRESH-INTERVAL:P3D
CALSCALE:GREGORIAN
BEGIN:VEVENT
DTSTART:20190920T154500Z
DTEND:20190920T210000Z
X-MICROSOFT-CDO-ALLDAYEVENT:FALSE
SUMMARY:Think Asia\, Think Hong Kong
DESCRIPTION:The Hong Kong Trade Development Council (HKTDC) will lead a Hong Kong business mission comprising 100+ CEOs\; investors\; innovators\; designers\; start-ups\, deal flow professionals together with trade and investment institutions to Los Angeles this fall.\n\n \nInterested companies are invited to register now for complimentary admission. Learn about new business opportunities in Asia through Hong Kong and gain insights into practical tips of doing business in Asia amid the ever-changing global trade dynamics.
X-ALT-DESC;FMTTYPE=text/html:<div>The Hong Kong Trade Development Council (HKTDC) will lead a Hong Kong business mission comprising 100+ CEOs\; investors\; innovators\; designers\; start-ups\, deal flow professionals together with trade and investment institutions to Los Angeles this fall.<br />\n&nbsp\;\n<div>Interested companies are invited to register now for complimentary admission. Learn about new business opportunities in Asia through Hong Kong and gain insights into practical tips of doing business in Asia amid the ever-changing global trade dynamics.</div>\n</div>\n
LOCATION:JW Marriott Los Angeles L.A. LIVE 900 W Olympic Blvd Los Angeles\, CA 90015
UID:e.887.23704
SEQUENCE:3
DTSTAMP:20260422T001656Z
URL:https://business.nocchamber.com/events/details/think-asia-think-hong-kong-23704
END:VEVENT

END:VCALENDAR
