BEGIN:VCALENDAR
VERSION:2.0
PRODID:-//ChamberMaster//Event Calendar 2.0//EN
METHOD:PUBLISH
X-PUBLISHED-TTL:P3D
REFRESH-INTERVAL:P3D
CALSCALE:GREGORIAN
BEGIN:VEVENT
DTSTART:20180909T000000Z
DTEND:20180909T040000Z
X-MICROSOFT-CDO-ALLDAYEVENT:FALSE
SUMMARY:TheSource - Fiestas Patrias 2018 El Grito
DESCRIPTION:In honor of Mexican Independence Day\, The Source will be hosting a traditional "Grito de Independencia" through the partnerships with the Consulate of Mexico of Orange County:\n\n	Mariachi performance\n	Ballet folkorico dancing\n	Music and dance of ancient Mexico\n	"Grito de Independencia" ceremony presided over by Consul Mario Cuevas
X-ALT-DESC;FMTTYPE=text/html:<span style="background:white\;"><span style="color:#333333\;"><span style="font-family:arial\,sans-serif\;"><span style="font-size:10.0pt\;">In honor of Mexican&nbsp\;</span></span></span></span>Independence Day\, The Source will be hosting a traditional <strong>&ldquo\;Grito de Independencia&rdquo\; </strong>through the partnerships with the Consulate of Mexico of Orange County:\n<ul>\n	<li><span style="background:white\;"><span style="color:#333333\;"><span style="font-family:arial\,sans-serif\;"><span style="font-size:10.0pt\;">Mariachi performance</span></span></span></span></li>\n	<li><span style="background:white\;"><span style="color:#333333\;"><span style="font-family:arial\,sans-serif\;"><span style="font-size:10.0pt\;">Ballet folkorico dancing</span></span></span></span></li>\n	<li><span style="background:white\;"><span style="color:#333333\;"><span style="font-family:arial\,sans-serif\;"><span style="font-size:10.0pt\;">Music and dance of ancient Mexico</span></span></span></span></li>\n	<li><span style="background:white\;"><span style="color:#333333\;"><span style="font-family:arial\,sans-serif\;"><span style="font-size:10.0pt\;">&ldquo\;Grito de Independencia&rdquo\; ceremony presided over by Consul Mario Cuevas</span></span></span></span></li>\n</ul>\n
LOCATION:The Source OC - 1st Floor Main Plaza 6940 Beach Blvd. Buena Park\, CA 90621
UID:e.887.22668
SEQUENCE:3
DTSTAMP:20260422T142858Z
URL:https://business.nocchamber.com/events/details/thesource-fiestas-patrias-2018-el-grito-22668
END:VEVENT

END:VCALENDAR
