BEGIN:VCALENDAR
VERSION:2.0
PRODID:-//ChamberMaster//Event Calendar 2.0//EN
METHOD:PUBLISH
X-PUBLISHED-TTL:P3D
REFRESH-INTERVAL:P3D
CALSCALE:GREGORIAN
BEGIN:VEVENT
DTSTART:20191025T023000Z
DTEND:20191025T043000Z
X-MICROSOFT-CDO-ALLDAYEVENT:FALSE
SUMMARY:The Spectre of Edgar Allan Poe at The Muck
DESCRIPTION:Join Edgar Allan Poe at The Muck as he sets the mood for Halloween with the spookiest tales and anecdotes from his life. Based on his award-winning portrayal\, actor Travis Rhett Wilson inhabits the Master of the Macabre as he narrates his tragic life and delivers tales of madness including "The Raven" and "The Tell-Tale Heart."
X-ALT-DESC;FMTTYPE=text/html:Join Edgar Allan Poe at The Muck as he sets the mood for Halloween with the spookiest tales and anecdotes from his life. Based on his award-winning portrayal\, actor Travis Rhett Wilson inhabits the Master of the Macabre as he narrates his tragic life and delivers tales of madness including &ldquo\;The Raven&rdquo\; and &ldquo\;The Tell-Tale Heart.&rdquo\;
LOCATION:The Muckenthaler Cultural Center 1201 W Malvern Ave Fullerton\, CA 92833
UID:e.887.23647
SEQUENCE:3
DTSTAMP:20260421T231300Z
URL:https://business.nocchamber.com/events/details/the-spectre-of-edgar-allan-poe-at-the-muck-23647
END:VEVENT

END:VCALENDAR
