BEGIN:VCALENDAR
VERSION:2.0
PRODID:-//ChamberMaster//Event Calendar 2.0//EN
METHOD:PUBLISH
X-PUBLISHED-TTL:P3D
REFRESH-INTERVAL:P3D
CALSCALE:GREGORIAN
BEGIN:VEVENT
DTSTART:20181207T023000Z
DTEND:20181207T033000Z
X-MICROSOFT-CDO-ALLDAYEVENT:FALSE
SUMMARY:The Source Thinkspiration Event
DESCRIPTION:The Source invites you to join its special Thinkspiration event on Thursday\, December 6th from 6:30 p.m.\, hosted by Mayor Virginia Vaughn of Buena Park\, and the Buena Park Women's Club. The Thinkspiration series is a lecture series at The Source that presents inspirational and influential guest speakers from different professions\, talents and all walks of life.\n\n\n\nWomen's Night at The Source welcomes guest speakers from the Buena Park Women's Club and CIREM Beverly Hills\, focusing on topics to inspire and empower women\, including women's health\, wellness and beauty.  \n\n\n\nThe first 300 guests that join this event will receive a free gift\, courtesy of CIREM Beverly Hills\, valued at over $300.
X-ALT-DESC;FMTTYPE=text/html:The Source invites you to join its special Thinkspiration event on Thursday\, December 6th from 6:30 p.m.\, hosted by Mayor Virginia Vaughn of Buena Park\, and the Buena Park Women&#39\;s Club. The&nbsp\;Thinkspiration series is a lecture series at The Source that presents inspirational and influential guest speakers from different professions\, talents and all walks of life.<br />\n<br />\nWomen&#39\;s Night at The Source welcomes guest speakers from the Buena Park Women&#39\;s Club and CIREM Beverly Hills\, focusing on topics to inspire and empower women\, including women&#39\;s health\, wellness and beauty.&nbsp\;&nbsp\;<br />\n<br />\nThe first 300 guests that join this event will receive a free gift\,&nbsp\;courtesy of CIREM Beverly Hills\, valued at over $300.
LOCATION:The Source (Inside Olympic Golf Zone - located on the 2nd Floor\, right around the corner from the top of Step Plaza) 6940 Beach Blvd. Buena Park\, CA 90621
UID:e.887.22875
SEQUENCE:3
DTSTAMP:20260422T113946Z
URL:https://business.nocchamber.com/events/details/the-source-thinkspiration-event-22875
END:VEVENT

END:VCALENDAR
