BEGIN:VCALENDAR
VERSION:2.0
PRODID:-//ChamberMaster//Event Calendar 2.0//EN
METHOD:PUBLISH
X-PUBLISHED-TTL:P3D
REFRESH-INTERVAL:P3D
CALSCALE:GREGORIAN
BEGIN:VEVENT
DTSTART:20181216T010000Z
DTEND:20181216T060000Z
X-MICROSOFT-CDO-ALLDAYEVENT:FALSE
SUMMARY:The Source OC - Winter Wonderland Year-End Party
DESCRIPTION:The Source OC is hosting a Winter Wonderland Year-End Party:\n\n	Wine tasting\n	Food samples\n	$100 value good bags\n	Live DJ\n\n*Guests must be 21 and over
X-ALT-DESC;FMTTYPE=text/html:The Source OC is hosting a&nbsp\;<strong>Winter Wonderland Year-End Party</strong>:\n<ul>\n	<li>Wine tasting</li>\n	<li>Food samples</li>\n	<li>$100 value good bags</li>\n	<li>Live DJ</li>\n</ul>\n*Guests must be 21 and over
LOCATION:The Source OC 6940 Beach Blvd. Buena Park\, CA 90621
UID:e.887.22850
SEQUENCE:3
DTSTAMP:20260422T114953Z
URL:https://business.nocchamber.com/events/details/the-source-oc-winter-wonderland-year-end-party-22850
END:VEVENT

END:VCALENDAR
