BEGIN:VCALENDAR
VERSION:2.0
PRODID:-//ChamberMaster//Event Calendar 2.0//EN
METHOD:PUBLISH
X-PUBLISHED-TTL:P3D
REFRESH-INTERVAL:P3D
CALSCALE:GREGORIAN
BEGIN:VEVENT
DTSTART:20181117T180000Z
DTEND:20181117T200000Z
X-MICROSOFT-CDO-ALLDAYEVENT:FALSE
SUMMARY:The Source OC - PlayPie Grand Opening
DESCRIPTION:The Source OC is inviting the public to celebrate the grand opening of PlayPie\, an innovative children's indoor playground.
X-ALT-DESC;FMTTYPE=text/html:The Source OC is inviting the public to celebrate the grand opening of <a href="https://www.thesourceoc.com/playpie" target="_blank"><strong>PlayPie</strong></a>\, an innovative children&#39\;s indoor playground.
LOCATION:The Source\, 1st floor 6924 Beach Blvd.\, K-131 Buena Park\, CA 90621
UID:e.887.22851
SEQUENCE:3
DTSTAMP:20260422T125009Z
URL:https://business.nocchamber.com/events/details/the-source-oc-playpie-grand-opening-22851
END:VEVENT

END:VCALENDAR
