BEGIN:VCALENDAR
VERSION:2.0
PRODID:-//ChamberMaster//Event Calendar 2.0//EN
METHOD:PUBLISH
X-PUBLISHED-TTL:P3D
REFRESH-INTERVAL:P3D
CALSCALE:GREGORIAN
BEGIN:VEVENT
DTSTART:20190629T030000Z
DTEND:20190629T051000Z
X-MICROSOFT-CDO-ALLDAYEVENT:FALSE
SUMMARY:The Source - Free Movie Night
DESCRIPTION:The Source OC will be showing Captain Marvel for free at its movie night event on Friday\, June 28 at 8:00 p.m. on the 1st Floor Step Plaza. Those who arrive early will receive free popcorn coupons offered by CGV Cinemas.
X-ALT-DESC;FMTTYPE=text/html:The Source OC will be showing <em>Captain Marvel</em>&nbsp\;for free at its movie night event on Friday\, June 28 at 8:00 p.m. on the 1st Floor Step Plaza. Those who arrive early will receive free popcorn coupons offered by CGV Cinemas.
LOCATION:1st Floor Step Plaza The Source OC 6940 Beach Blvd. Buena Park\, CA 90621
UID:e.887.23429
SEQUENCE:3
DTSTAMP:20260422T053257Z
URL:https://business.nocchamber.com/events/details/the-source-free-movie-night-23429
END:VEVENT

END:VCALENDAR
