BEGIN:VCALENDAR
VERSION:2.0
PRODID:-//ChamberMaster//Event Calendar 2.0//EN
METHOD:PUBLISH
X-PUBLISHED-TTL:P3D
REFRESH-INTERVAL:P3D
CALSCALE:GREGORIAN
BEGIN:VEVENT
DTSTART;VALUE=DATE:20200514
DTEND;VALUE=DATE:20200517
TRANSP:TRANSPARENT
X-MICROSOFT-CDO-ALLDAYEVENT:TRUE
SUMMARY:The Small Business School Challenge
DESCRIPTION:Small Business School Challenge is a a 48-hour virtual event on 5/14-16 for small businesses to receive business support from the best MBA's in the country. Teams of three MBA students with deep professional experience will provide hands-on consulting for small businesses around the theme of 'emerging from the crisis with confidence'.\n\n\n\nIt is free for small businesses to take part.\n\n\n\nMBA students and small businesses are encouraged to participate.\n\n\n\nClick here for more information.
X-ALT-DESC;FMTTYPE=text/html:<a data-auth="NotApplicable" href="https://www.lifeworkonline.com/small-business-school-challenge" rel="noopener noreferrer" target="_blank">Small Business School Challenge</a>&nbsp\;is a a&nbsp\;48-hour virtual event on 5/14-16 for small businesses to receive business support from the best MBA&#39\;s in the country. Teams of three MBA students with deep professional experience will provide hands-on consulting for small businesses around the theme of &lsquo\;emerging from the crisis with confidence&rsquo\;.<br />\n<br />\nIt is free for small businesses to take part.<br />\n<br />\nMBA students and small businesses are encouraged to participate.<br />\n<br />\n<a href="https://www.lifeworkonline.com/small-business-school-challenge" target="_blank">Click here for more information.</a>
LOCATION:Online. Click here for more information.
UID:e.887.24328
SEQUENCE:3
DTSTAMP:20260421T150340Z
URL:https://business.nocchamber.com/events/details/the-small-business-school-challenge-24328
END:VEVENT

END:VCALENDAR
