BEGIN:VCALENDAR
VERSION:2.0
PRODID:-//ChamberMaster//Event Calendar 2.0//EN
METHOD:PUBLISH
X-PUBLISHED-TTL:P3D
REFRESH-INTERVAL:P3D
CALSCALE:GREGORIAN
BEGIN:VEVENT
DTSTART:20191013T180000Z
DTEND:20191014T040000Z
X-MICROSOFT-CDO-ALLDAYEVENT:FALSE
SUMMARY:The Simple Greek - Grand Opening Celebration
DESCRIPTION:Join us for the grand opening celebration of The Simple Greek.\n\n This is the first location opening in California.
X-ALT-DESC;FMTTYPE=text/html:&#8203\;Join us for the grand opening celebration of The Simple Greek.<br />\n&#8203\;This is the first&nbsp\;location opening in California.&nbsp\;<br />\n&#8203\;<br />\n&nbsp\;
LOCATION:141 East Imperial Highway Fullerton\, CA 92835
UID:e.887.23738
SEQUENCE:3
DTSTAMP:20260421T231019Z
URL:https://business.nocchamber.com/events/details/the-simple-greek-grand-opening-celebration-23738
END:VEVENT

END:VCALENDAR
