BEGIN:VCALENDAR
VERSION:2.0
PRODID:-//ChamberMaster//Event Calendar 2.0//EN
METHOD:PUBLISH
X-PUBLISHED-TTL:P3D
REFRESH-INTERVAL:P3D
CALSCALE:GREGORIAN
BEGIN:VEVENT
DTSTART:20190507T153000Z
DTEND:20190507T180000Z
X-MICROSOFT-CDO-ALLDAYEVENT:FALSE
SUMMARY:The Future of Work is Now: Hospitality Industry Sector Round Table
DESCRIPTION:NOCC is working in partnership with NOCCCD to present The Future of Work is Now: Hospitality Industry Sector Round Table.\n\n\n\nJoin us for robust dialogue with business and education partners:   What is the future of hospitality?   What are the trends impacting hospitality providers?   How do we meet the needs of hospitality and tourism industries?   How are hospitality providers finding qualified employees for available positions?\n\n\n\nDate: Tuesday\, May 7\, 2019 Registration 8:30-9:00 a.m. Event 9:00-11:00 a.m.\n\n\n\nLocation: Gordon Hoyt Conference Center 201 S. Anaheim Blvd. 2nd Floor Anaheim\, CA 92805 \n\n\n\nRegistration: Email Theresa Harvey\, NOC Chamber President\, at Tharvey@nocchamber.com or register here. RSVP today to reserve your seat. Parking is complimentary.
X-ALT-DESC;FMTTYPE=text/html:NOCC is working in partnership with NOCCCD to present The Future of Work is Now: Hospitality Industry Sector Round Table.<br />\n<br />\nJoin us for robust dialogue with business and education partners: &bull\; What is the future of hospitality? &bull\; What are the trends impacting hospitality providers? &bull\; How do we meet the needs of hospitality and tourism industries? &bull\; How are hospitality providers finding qualified employees for available positions?<br />\n<br />\nDate: Tuesday\, May 7\, 2019 Registration 8:30-9:00 a.m. Event 9:00-11:00 a.m.<br />\n<br />\nLocation: Gordon Hoyt Conference Center 201 S. Anaheim Blvd. 2nd Floor Anaheim\, CA 92805&nbsp\;<br />\n<br />\nRegistration: Email Theresa Harvey\, NOC Chamber President\, at Tharvey@nocchamber.com or register here. RSVP&nbsp\;today to reserve your seat. Parking is complimentary.
LOCATION:Gordon Hoyt Conference Center 201 S. Anaheim Blvd. 2nd Floor Anaheim\, CA 92805
UID:e.887.23125
SEQUENCE:3
DTSTAMP:20260422T054513Z
URL:https://business.nocchamber.com/events/details/the-future-of-work-is-now-hospitality-industry-sector-round-table-23125
END:VEVENT

END:VCALENDAR
