BEGIN:VCALENDAR
VERSION:2.0
PRODID:-//ChamberMaster//Event Calendar 2.0//EN
METHOD:PUBLISH
X-PUBLISHED-TTL:P3D
REFRESH-INTERVAL:P3D
CALSCALE:GREGORIAN
BEGIN:VEVENT
DTSTART:20190913T023000Z
DTEND:20190913T043000Z
X-MICROSOFT-CDO-ALLDAYEVENT:FALSE
SUMMARY:The Assembly Performs at Muckenthaler
DESCRIPTION:Founded in 2014\, this company of dance artists has performed in non-traditional performance spaces all over Southern California. Working collaboratively during their 2019 residency at the Muckenthaler Cultural Center\, they will craft a meaningful evening of dance theater for our stage.
X-ALT-DESC;FMTTYPE=text/html:<p>Founded in 2014\, this company of dance artists has performed in non-traditional performance spaces all over Southern California. Working collaboratively during their 2019 residency at the Muckenthaler Cultural Center\, they will craft a meaningful evening of dance theater for our stage.</p>\n
LOCATION:The Muckenthaler Center 1201 W Malvern Ave Fullerton\, CA 92833
UID:e.887.23640
SEQUENCE:3
DTSTAMP:20260422T011858Z
URL:https://business.nocchamber.com/events/details/the-assembly-performs-at-muckenthaler-23640
END:VEVENT

END:VCALENDAR
