BEGIN:VCALENDAR
VERSION:2.0
PRODID:-//ChamberMaster//Event Calendar 2.0//EN
METHOD:PUBLISH
X-PUBLISHED-TTL:P3D
REFRESH-INTERVAL:P3D
CALSCALE:GREGORIAN
BEGIN:VEVENT
DTSTART:20170420T013000Z
DTEND:20170420T040000Z
X-MICROSOFT-CDO-ALLDAYEVENT:FALSE
SUMMARY:The Art and Science of Creating a Successful Business Plan
DESCRIPTION:Successful business planning leads to successful business results. Take the most important step and build your business solidly from the very beginning or use it to guide an existing enterprise. In this interactive workshop you will learn how to:\n\n1. Break apart the components of the business plan into manageable steps\n\n2. Define your business succinctly\n\n3. Research your competition and target market\n\n4. Develop your operating and marketing plans\n\n5. Start understanding your financial statements.
X-ALT-DESC;FMTTYPE=text/html:<div>Successful business planning leads to successful business results. Take the most important step and build your business solidly from the very beginning or use it to guide an existing enterprise. In this interactive workshop you will learn how to:<br />\n1. Break apart the components of the business plan into manageable steps<br />\n2. Define your business succinctly<br />\n3. Research your competition and target market<br />\n4. Develop your operating and marketing plans<br />\n5. Start understanding your financial statements.</div>\n
LOCATION:Norman P. Murray Center 24932 Veterans Way\, Sycamore A Mission Viejo\, CA 92691
UID:e.887.16044
SEQUENCE:3
DTSTAMP:20260421T114923Z
URL:https://business.nocchamber.com/events/details/the-art-and-science-of-creating-a-successful-business-plan-16044
END:VEVENT

END:VCALENDAR
