BEGIN:VCALENDAR
VERSION:2.0
PRODID:-//ChamberMaster//Event Calendar 2.0//EN
METHOD:PUBLISH
X-PUBLISHED-TTL:P3D
REFRESH-INTERVAL:P3D
CALSCALE:GREGORIAN
BEGIN:VEVENT
DTSTART:20190809T023000Z
DTEND:20190809T043000Z
X-MICROSOFT-CDO-ALLDAYEVENT:FALSE
SUMMARY:The Alley Cats at Muckenthaler Cultural Center
DESCRIPTION:The Alley Cats will be performing at the Muckenthaler Cultural Center Thursday\, August 8 at 7:30 p.m. The group has won international acapella competitions and performed for audiences at Disneyland\, Cruise ships\, and The Muck.
X-ALT-DESC;FMTTYPE=text/html:The Alley Cats will be performing at the Muckenthaler Cultural Center Thursday\, August 8 at 7:30 p.m. The group has won international acapella competitions and performed for audiences at Disneyland\, Cruise ships\, and The Muck.
LOCATION:The Muckenthaler Cultural Center 1201 W Malvern Ave. Fullerton\, CA 92833
UID:e.887.23631
SEQUENCE:3
DTSTAMP:20260422T015743Z
URL:https://business.nocchamber.com/events/details/the-alley-cats-at-muckenthaler-cultural-center-23631
END:VEVENT

END:VCALENDAR
