BEGIN:VCALENDAR
VERSION:2.0
PRODID:-//ChamberMaster//Event Calendar 2.0//EN
METHOD:PUBLISH
X-PUBLISHED-TTL:P3D
REFRESH-INTERVAL:P3D
CALSCALE:GREGORIAN
BEGIN:VEVENT
DTSTART:20180412T140000Z
DTEND:20180412T160000Z
X-MICROSOFT-CDO-ALLDAYEVENT:FALSE
SUMMARY:The 9th Annual Mayor's Prayer Breakfast
DESCRIPTION:The 9th Annual Mayor's Prayer Breakfast will be held on Thursday\, April 12\, 2018\, from 7:30 a.m. - 9 a.m.  The event will take place at the Knott's Berry Farm Hotel\, 7675 Crescent Ave.\, Buena Park\, CA. This year's guest speaker will be two-time Olympian and actor Jamie Nieto.
X-ALT-DESC;FMTTYPE=text/html:The 9th Annual Mayor&#39\;s&nbsp\;Prayer Breakfast&nbsp\;will be held on Thursday\, April 12\, 2018\, from 7:30 a.m. - 9 a.m.&nbsp\; The event will take place at the Knott&#39\;s Berry Farm Hotel\, 7675 Crescent Ave.\, Buena Park\, CA. This year&#39\;s guest speaker will be two-time Olympian and actor Jamie Nieto.
LOCATION:Knott's Berry Farm Hotel 7675 Crescent Ave. Buena Park\, CA 90620
UID:e.887.18194
SEQUENCE:3
DTSTAMP:20260422T004707Z
URL:https://business.nocchamber.com/events/details/the-9th-annual-mayor-s-prayer-breakfast-18194
END:VEVENT

END:VCALENDAR
