BEGIN:VCALENDAR
VERSION:2.0
PRODID:-//ChamberMaster//Event Calendar 2.0//EN
METHOD:PUBLISH
X-PUBLISHED-TTL:P3D
REFRESH-INTERVAL:P3D
CALSCALE:GREGORIAN
BEGIN:VEVENT
DTSTART:20190919T180000Z
DTEND:20190919T200000Z
X-MICROSOFT-CDO-ALLDAYEVENT:FALSE
SUMMARY:Tax Withholding Estimator – How to Check Your Taxes Now to Avoid Surprises Later
DESCRIPTION:This is a free 120-minute webinar open to all.\n\n\n\nLife changes. Events such as marriage\, divorce\, a home purchase\, new job\, retirement\, birth\, adoption or tax law changes can affect your taxes. You should return to the Tax Withholding Estimator to check your situation again for 2019.  The Tax Withholding Estimator will help make sure you have the right amount of tax withheld from your paychecks or you're making the right estimated tax payments.
X-ALT-DESC;FMTTYPE=text/html:This is a free 120-minute webinar open to all.<br />\n<br />\nLife changes. Events such as marriage\, divorce\, a home purchase\, new job\, retirement\, birth\, adoption or tax law changes can affect your taxes. You should return to the Tax Withholding Estimator to check your situation again for 2019.&nbsp\; The Tax Withholding Estimator will help make sure you have the right amount of tax withheld from your paychecks or you&#39\;re making the right estimated tax payments.<br />\n&nbsp\;
LOCATION:Online. You will be sent an email to login and watch the webinar.
UID:e.887.23707
SEQUENCE:3
DTSTAMP:20260422T002310Z
URL:https://business.nocchamber.com/events/details/tax-withholding-estimator-how-to-check-your-taxes-now-to-avoid-surprises-later-23707
END:VEVENT

END:VCALENDAR
