BEGIN:VCALENDAR
VERSION:2.0
PRODID:-//ChamberMaster//Event Calendar 2.0//EN
METHOD:PUBLISH
X-PUBLISHED-TTL:P3D
REFRESH-INTERVAL:P3D
CALSCALE:GREGORIAN
BEGIN:VEVENT
DTSTART:20191024T013000Z
DTEND:20191024T033000Z
X-MICROSOFT-CDO-ALLDAYEVENT:FALSE
SUMMARY:Talk on the Block Neighborhood Meeting
DESCRIPTION:The meeting will be discussing the November 5th special municipal election.\n\nPlease be advised that parking is limited. It is highly suggested that attendees park at City Hall and walk to the location.
X-ALT-DESC;FMTTYPE=text/html:<p background-color:="" color:="" open="" vertical-align:="">The meeting will be discussing the November 5th special municipal election.</p>\n\n<p background-color:="" color:="" open="" vertical-align:="">Please be advised that parking is limited. It is highly suggested that attendees park at City Hall and walk to the location.&nbsp\;</p>\n
LOCATION:Park Place 7622 Katella Avenue Stanton\, CA 90680
UID:e.887.23783
SEQUENCE:3
DTSTAMP:20260421T231147Z
URL:https://business.nocchamber.com/events/details/talk-on-the-block-neighborhood-meeting-23783
END:VEVENT

END:VCALENDAR
