BEGIN:VCALENDAR
VERSION:2.0
PRODID:-//ChamberMaster//Event Calendar 2.0//EN
METHOD:PUBLISH
X-PUBLISHED-TTL:P3D
REFRESH-INTERVAL:P3D
CALSCALE:GREGORIAN
BEGIN:VEVENT
DTSTART:20180819T000000Z
DTEND:20180819T030000Z
X-MICROSOFT-CDO-ALLDAYEVENT:FALSE
SUMMARY:Taco Festival at Fullerton Downtown Plaza
DESCRIPTION:Fullerton Sister City Association and the Fullerton Museum Center annual Taco Festival in Fullerton Downtown Plaza. Take your pick from a variety of tacos for purchase from local non-profits and restaurants all volunteering to support the Fullerton Sister City Association and the Fullerton Museum Center.
X-ALT-DESC;FMTTYPE=text/html:Fullerton Sister City Association and the Fullerton Museum Center annual Taco Festival in Fullerton Downtown Plaza.&nbsp\;Take your pick from a variety of tacos for purchase from local non-profits and restaurants all volunteering to support the Fullerton Sister City Association and the Fullerton Museum Center.
LOCATION:Fullerton Downtown Plaza 125 E. Wilshire Avenue Fullerton\, CA 92832
UID:e.887.22537
SEQUENCE:3
DTSTAMP:20260422T091451Z
URL:https://business.nocchamber.com/events/details/taco-festival-at-fullerton-downtown-plaza-22537
END:VEVENT

END:VCALENDAR
