BEGIN:VCALENDAR
VERSION:2.0
PRODID:-//ChamberMaster//Event Calendar 2.0//EN
METHOD:PUBLISH
X-PUBLISHED-TTL:P3D
REFRESH-INTERVAL:P3D
CALSCALE:GREGORIAN
BEGIN:VEVENT
DTSTART:20181209T170000Z
DTEND:20181209T210000Z
X-MICROSOFT-CDO-ALLDAYEVENT:FALSE
SUMMARY:Tac City - USA BattleArena Qualifications
DESCRIPTION:Compete in the USA BattleArena Qualifications to determine the best national team that will represent the USA at the Worldwide Season 5 Finals in Finland:\n\n	National Finals - January 12\, 2019 at the SS Airsoft Arena in Atlanta\, GA\n	Worldwide Finals - February 3 to March 3\, 2019 at the ASA Airsoft Arena in Finland
X-ALT-DESC;FMTTYPE=text/html:Compete in the USA BattleArena Qualifications to determine the best national team that will represent the USA at the Worldwide Season 5 Finals in Finland:\n<ul>\n	<li>National Finals -&nbsp\;January 12\, 2019 at the SS Airsoft Arena in Atlanta\, GA</li>\n	<li>Worldwide Finals - February 3 to&nbsp\;March 3\, 2019 at the ASA Airsoft Arena in Finland</li>\n</ul>\n
LOCATION:Tac City 2430 Artesia Ave. Fullerton\, CA 92833
UID:e.887.22900
SEQUENCE:3
DTSTAMP:20260422T114841Z
URL:https://business.nocchamber.com/events/details/tac-city-usa-battlearena-qualifications-22900
END:VEVENT

END:VCALENDAR
