BEGIN:VCALENDAR
VERSION:2.0
PRODID:-//ChamberMaster//Event Calendar 2.0//EN
METHOD:PUBLISH
X-PUBLISHED-TTL:P3D
REFRESH-INTERVAL:P3D
CALSCALE:GREGORIAN
BEGIN:VEVENT
DTSTART:20181216T170000Z
DTEND:20181216T210000Z
X-MICROSOFT-CDO-ALLDAYEVENT:FALSE
SUMMARY:Tac City - Bootcamp for Kids
DESCRIPTION:Participate in Tac City's last Bootcamp for Kids:\n\n	For ages 10 to 16 only\n	BBs and Airsoft Rental Gear \n	Pizza\, drinks\, and refreshments\n	Beginning & Advanced Training\n	Guest appearances by airsoft experts\n	Product giveaways\n	$10 Special for Public Play after Camp (1:00 p.m.)\n\n*Space is limited with only 30 spaces per date
X-ALT-DESC;FMTTYPE=text/html:Participate in Tac City&#39\;s last Bootcamp for Kids:\n<ul>\n	<li>For ages 10 to 16 only</li>\n	<li>BBs and Airsoft Rental Gear&nbsp\;</li>\n	<li>Pizza\, drinks\, and refreshments</li>\n	<li>Beginning &amp\; Advanced Training</li>\n	<li>Guest appearances by airsoft experts</li>\n	<li>Product giveaways</li>\n	<li>$10 Special for Public Play after Camp (1:00 p.m.)</li>\n</ul>\n*Space is limited with only 30 spaces per date
LOCATION:Tac City 2430 Artesia Ave. Fullerton\, CA 92833
UID:e.887.22901
SEQUENCE:3
DTSTAMP:20260422T114141Z
URL:https://business.nocchamber.com/events/details/tac-city-bootcamp-for-kids-22901
END:VEVENT

END:VCALENDAR
