BEGIN:VCALENDAR
VERSION:2.0
PRODID:-//ChamberMaster//Event Calendar 2.0//EN
METHOD:PUBLISH
X-PUBLISHED-TTL:P3D
REFRESH-INTERVAL:P3D
CALSCALE:GREGORIAN
BEGIN:VEVENT
DTSTART:20190614T180000Z
DTEND:20190614T200000Z
X-MICROSOFT-CDO-ALLDAYEVENT:FALSE
SUMMARY:Sustain SoCal - Water & Housing Forum
DESCRIPTION:With a new Administration in the State Capitol\, many new initiatives are being proposed that will no doubt affect how we live\, work\, and play. Regarding Governor Newsom's housing plans\, he has stated\, "Our state's affordability crisis is undermining the California Dream and the foundations of our economic well-being." In addition to addressing the affordability issue\, let's not forget about a natural precious resource needed to support housing and new development   water.\n\nCome learn about the latest proposals being discussed and what local and statewide agencies are doing to ensure we continue to support the economic growth of our region.
X-ALT-DESC;FMTTYPE=text/html:<p>With a new Administration in the State Capitol\, many new initiatives are being proposed that will no doubt affect how we live\, work\, and play. Regarding Governor Newsom&rsquo\;s housing plans\, he has stated\, &ldquo\;Our state&rsquo\;s affordability crisis is undermining the California Dream and the foundations of our economic well-being.&rdquo\; In addition to addressing the affordability issue\, let&rsquo\;s not forget about a natural precious resource needed to support housing and new development &ndash\; water.</p>\n\n<p>Come learn about the latest proposals being discussed and what local and statewide agencies are doing to ensure we continue to support the economic growth of our region.</p>\n
LOCATION:The Cove at UCI Applied Innovation 5141 California Ave. #220 Irvine\, CA 92617
UID:e.887.23396
SEQUENCE:3
DTSTAMP:20260422T041758Z
URL:https://business.nocchamber.com/events/details/sustain-socal-water-housing-forum-23396
END:VEVENT

END:VCALENDAR
