BEGIN:VCALENDAR
VERSION:2.0
PRODID:-//ChamberMaster//Event Calendar 2.0//EN
METHOD:PUBLISH
X-PUBLISHED-TTL:P3D
REFRESH-INTERVAL:P3D
CALSCALE:GREGORIAN
BEGIN:VEVENT
DTSTART:20190608T150000Z
DTEND:20190609T060000Z
X-MICROSOFT-CDO-ALLDAYEVENT:FALSE
SUMMARY:Supervisor Chaffee's Fourth District Kids Fishing Derby (Free Hot Dogs)
DESCRIPTION:OC Parks invites families to enjoy the Kids' Fishing Derby at Clark Regional Park! This free fishing derby is designed to teach children how to fish\, while giving them an opportunity to catch a few from Clark Regional Park's stocked lake.\n\n\n\nChildren ages 5 to 15 years old are welcome to participate\, and trophies will be awarded for the biggest fish caught. Whether casting a pole for the first time or a seasoned angler\, the derby gives the community a chance to enjoy a day of fresh air and fishing.\n\n\n\nPlease bring your own fishing poles. A limited amount of bait will be provided. The lake will be stocked with 2\,000 lbs. of catfish and there will be a five-fish limit. All minors must be accompanied by an adult\, and adults will not be permitted to fish until the event is over.\n\n\n\nRegistration is required at the OC Parks check-in table on the day of the event. Food will be available for purchase along with free hot dogs.
X-ALT-DESC;FMTTYPE=text/html:OC Parks invites families to enjoy the Kids&rsquo\; Fishing Derby at Clark Regional Park! This free fishing derby is designed to teach children how to fish\, while giving them an opportunity to catch a few from Clark Regional Park&#39\;s stocked lake.<br />\n<br />\nChildren ages 5 to 15 years old are welcome to participate\, and trophies will be awarded for the biggest fish caught. Whether casting a pole for the first time or a seasoned angler\, the derby gives the community a chance to enjoy a day of fresh air and fishing.<br />\n<br />\nPlease bring your own fishing poles. A limited amount of bait will be provided. The lake will be stocked with 2\,000 lbs. of catfish and there will be a five-fish limit. All minors must be accompanied by an adult\, and adults will not be permitted to fish until the event is over.<br />\n<br />\nRegistration is required at the OC Parks check-in table on the day of the event. Food will be available for purchase along with free hot dogs.
LOCATION:Clark Regional Park 8800 Rosecrans Ave. Buena Park\, CA 92823
UID:e.887.23307
SEQUENCE:3
DTSTAMP:20260422T041941Z
URL:https://business.nocchamber.com/events/details/supervisor-chaffee-s-fourth-district-kids-fishing-derby-free-hot-dogs-23307
END:VEVENT

END:VCALENDAR
