BEGIN:VCALENDAR
VERSION:2.0
PRODID:-//ChamberMaster//Event Calendar 2.0//EN
METHOD:PUBLISH
X-PUBLISHED-TTL:P3D
REFRESH-INTERVAL:P3D
CALSCALE:GREGORIAN
BEGIN:VEVENT
DTSTART:20190307T153000Z
DTEND:20190307T173000Z
X-MICROSOFT-CDO-ALLDAYEVENT:FALSE
SUMMARY:Sunrise Senior Living Taste of Sunrise
DESCRIPTION:Stop by the community to pick up a delicious breakfast\, complete with juice and coffee all prepared by a culinary team. Also take a quick tour of the community to learn more about our care and services.
X-ALT-DESC;FMTTYPE=text/html:Stop by the community to pick up a delicious breakfast\, complete with juice and coffee all prepared by a culinary team. Also take a quick tour of the community to learn more about our care and services.&nbsp\;&nbsp\;
LOCATION:Sunrise of Fullerton 2226 N. Euclid St Fullerton\, CA 92835
UID:e.887.23008
SEQUENCE:3
DTSTAMP:20260422T091604Z
URL:https://business.nocchamber.com/events/details/sunrise-senior-living-taste-of-sunrise-23008
END:VEVENT

END:VCALENDAR
