BEGIN:VCALENDAR
VERSION:2.0
PRODID:-//ChamberMaster//Event Calendar 2.0//EN
METHOD:PUBLISH
X-PUBLISHED-TTL:P3D
REFRESH-INTERVAL:P3D
CALSCALE:GREGORIAN
BEGIN:VEVENT
DTSTART:20190408T143000Z
DTEND:20190409T003000Z
X-MICROSOFT-CDO-ALLDAYEVENT:FALSE
SUMMARY:Sunny Hills International Baccalaureate Senior Art Show
DESCRIPTION:This exhibition provides an assessment platform for International Baccalaureate (IB) art students to showcase the final product of their art-making processes. It allows for the assessment of the observable qualities of technical resolution\, the successful communication of ideas\, and the synthesis of form and function.  It also provides students with the opportunity to demonstrate their discernment by identifying the strongest works for the exhibition\, how to arrange these works to their best advantage\, and to make connections for the audience between each art piece. As part of the IB Art assessment\, each student must write a curatorial rationale\, plan for the presentation of their work\, and mount the exhibition according to their plan.
X-ALT-DESC;FMTTYPE=text/html:This exhibition provides an assessment platform for International Baccalaureate (IB) art students to showcase the final product of their art-making processes. It allows for the assessment of the observable qualities of technical resolution\, the successful communication of ideas\, and the synthesis of form and function.&nbsp\; It also provides students with the opportunity to demonstrate their discernment by identifying the strongest works for the exhibition\, how to arrange these works to their best advantage\, and to make connections for the audience between each art piece. As part of the IB Art assessment\, each student must write a curatorial rationale\, plan for the presentation of their work\, and mount the exhibition according to their plan.
LOCATION:City Council Chamber-Buena Park City Hall 6650 Beach Blvd. Buena Park\, CA 90621
UID:e.887.23113
SEQUENCE:3
DTSTAMP:20260422T065702Z
URL:https://business.nocchamber.com/events/details/sunny-hills-international-baccalaureate-senior-art-show-23113
END:VEVENT

END:VCALENDAR
