BEGIN:VCALENDAR
VERSION:2.0
PRODID:-//ChamberMaster//Event Calendar 2.0//EN
METHOD:PUBLISH
X-PUBLISHED-TTL:P3D
REFRESH-INTERVAL:P3D
CALSCALE:GREGORIAN
BEGIN:VEVENT
DTSTART:20170625T190000Z
DTEND:20170625T230000Z
X-MICROSOFT-CDO-ALLDAYEVENT:FALSE
SUMMARY:Summer Pop-Up Market at The Source
DESCRIPTION:Celebrate the coming of summer with Happy Ever Etched's Summer Pop-Up. Browse mix of vendors\, including flowers\, children's clothing and even shops from The Source.Be sure to also drop by the craft table for some hands-on summer activities.
X-ALT-DESC;FMTTYPE=text/html:Celebrate the coming of summer with Happy Ever Etched&#39\;s Summer Pop-Up. Browse mix of vendors\, including flowers\, children&#39\;s clothing and even shops from The Source.Be sure to also drop by the craft table for some hands-on summer activities.&nbsp\;
LOCATION:The Source OC 6940 Beach Blvd Buena Park\, CA 90621
UID:e.887.16228
SEQUENCE:3
DTSTAMP:20260421T014639Z
URL:https://business.nocchamber.com/events/details/summer-pop-up-market-at-the-source-16228
END:VEVENT

END:VCALENDAR
