BEGIN:VCALENDAR
VERSION:2.0
PRODID:-//ChamberMaster//Event Calendar 2.0//EN
METHOD:PUBLISH
X-PUBLISHED-TTL:P3D
REFRESH-INTERVAL:P3D
CALSCALE:GREGORIAN
BEGIN:VEVENT
DTSTART:20190620T020000Z
DTEND:20190620T040000Z
X-MICROSOFT-CDO-ALLDAYEVENT:FALSE
SUMMARY:Summer Concerts in the Park: Just Pretending
DESCRIPTION:Every year\, the City of Buena Park hosts a series of six free outdoor concerts at Boisseranc Park and Downtown Buena Park.\n\n\n\nWednesday\, June 19\, join in and see Just Pretending\, a tribute to The Pretenders at Boisseranc Park at 7:00 p.m.\n\n\n\nFood and drinks will be available to purchase.
X-ALT-DESC;FMTTYPE=text/html:Every year\, the City of Buena Park hosts a series of six free outdoor concerts at Boisseranc Park and Downtown Buena Park.<br />\n<br />\nWednesday\, June 19\, join in and see Just Pretending\, a tribute to The Pretenders at Boisseranc Park at 7:00 p.m.<br />\n<br />\nFood and drinks will be available to purchase.
LOCATION:Boisseranc Park 7520 Dale St. Buena Park\, CA 90620
UID:e.887.23404
SEQUENCE:3
DTSTAMP:20260422T053909Z
URL:https://business.nocchamber.com/events/details/summer-concerts-in-the-park-just-pretending-23404
END:VEVENT

END:VCALENDAR
