BEGIN:VCALENDAR
VERSION:2.0
PRODID:-//ChamberMaster//Event Calendar 2.0//EN
METHOD:PUBLISH
X-PUBLISHED-TTL:P3D
REFRESH-INTERVAL:P3D
CALSCALE:GREGORIAN
BEGIN:VEVENT
DTSTART:20190613T020000Z
DTEND:20190613T040000Z
X-MICROSOFT-CDO-ALLDAYEVENT:FALSE
SUMMARY:Summer Concerts in the Park: Heart Love Alive
DESCRIPTION:Every year\, the City of Buena Park hosts a series of six free outdoor concerts at Boisseranc Park and Downtown Buena Park.\n\n\n\nThis Wednesday\, June 12\, come and see Heart Love Alive\, a tribute to Heart\, in Boisseranc Park at 7:00 p.m. Food and drinks will be available to purchase.
X-ALT-DESC;FMTTYPE=text/html:Every year\, the City of Buena Park hosts a series of six free outdoor concerts at Boisseranc Park and Downtown Buena Park.<br />\n<br />\nThis Wednesday\, June 12\, come and see Heart Love Alive\, a tribute to Heart\, in Boisseranc Park at 7:00 p.m. Food and drinks will be available to purchase.
LOCATION:Boisseranc Park 7520 Dale St. Buena Park\, CA 90620
UID:e.887.23398
SEQUENCE:3
DTSTAMP:20260422T041951Z
URL:https://business.nocchamber.com/events/details/summer-concerts-in-the-park-heart-love-alive-23398
END:VEVENT

END:VCALENDAR
