BEGIN:VCALENDAR
VERSION:2.0
PRODID:-//ChamberMaster//Event Calendar 2.0//EN
METHOD:PUBLISH
X-PUBLISHED-TTL:P3D
REFRESH-INTERVAL:P3D
CALSCALE:GREGORIAN
BEGIN:VEVENT
DTSTART:20180806T160000Z
DTEND:20180806T190000Z
X-MICROSOFT-CDO-ALLDAYEVENT:FALSE
SUMMARY:Summer Art Camp
DESCRIPTION:In this half day program\, students will use the earth\, sea\, and stars as inspiration! Join FMC staff\, docents\, and guest presenters to learn how their ideas can become art. \n\n\n\nLive animals will come model for us!
X-ALT-DESC;FMTTYPE=text/html:In this half day program\, students will use the earth\, sea\, and stars as inspiration! Join FMC staff\, docents\, and guest presenters to learn how their ideas can become art.&nbsp\;<br />\n<br />\nLive animals will come model for us!
LOCATION:Fullerton Museum Center 301 N. Pomona Ave. Fullerton\, CA 92832
UID:e.887.21460
SEQUENCE:3
DTSTAMP:20260422T090912Z
URL:https://business.nocchamber.com/events/details/summer-art-camp-21460
END:VEVENT

END:VCALENDAR
