BEGIN:VCALENDAR
VERSION:2.0
PRODID:-//ChamberMaster//Event Calendar 2.0//EN
METHOD:PUBLISH
X-PUBLISHED-TTL:P3D
REFRESH-INTERVAL:P3D
CALSCALE:GREGORIAN
BEGIN:VEVENT
DTSTART:20170623T000000Z
DTEND:20170623T030000Z
X-MICROSOFT-CDO-ALLDAYEVENT:FALSE
SUMMARY:State Route 57 Northbound Improvement Project Information Session
DESCRIPTION:OCTA and Caltrans District 12 are hosting a public information open house for the SR-57 Northbound Improvement Project\, which extends from Orangewood Avenue to Katella Avenue. Members of the public are invited to join us at the open house to learn about the project\, meet the project development team and most importantly\, share your comments.
X-ALT-DESC;FMTTYPE=text/html:OCTA and Caltrans District 12 are hosting a public information open house for the SR-57 Northbound Improvement Project\, which extends from Orangewood Avenue to Katella Avenue. Members of the public are invited to join us at the open house to learn about the project\, meet the project development team and most importantly\, share your comments.
LOCATION:Portola Middle School Cafeteria 270 North Palm Drive Orange\, CA 92868
UID:e.887.16222
SEQUENCE:3
DTSTAMP:20260421T014051Z
URL:https://business.nocchamber.com/events/details/state-route-57-northbound-improvement-project-information-session-16222
END:VEVENT

END:VCALENDAR
