BEGIN:VCALENDAR
VERSION:2.0
PRODID:-//ChamberMaster//Event Calendar 2.0//EN
METHOD:PUBLISH
X-PUBLISHED-TTL:P3D
REFRESH-INTERVAL:P3D
CALSCALE:GREGORIAN
BEGIN:VEVENT
DTSTART:20170616T010000Z
DTEND:20170616T040000Z
X-MICROSOFT-CDO-ALLDAYEVENT:FALSE
SUMMARY:Start or Grow Your Business- Use Business Model Canvas
DESCRIPTION:Marc Pakbaz of SCORE is a social entrepreneur and a business speaker with an abundance of international experience\; he presents that there are so many variants to manage a new or existing business. Learn from Marc as he helps identify and prioritize those variants in your business.
X-ALT-DESC;FMTTYPE=text/html:Marc Pakbaz of SCORE is a social entrepreneur and a business speaker with an abundance of international experience\; he presents that there are so many variants to manage a new or existing business. Learn from Marc as he helps identify and prioritize those variants in your business.
LOCATION:Fullerton Public Library Main Branch 353 W. Commonwealth Ave Fullerton\, CA 92832
UID:e.887.16182
SEQUENCE:3
DTSTAMP:20260421T015127Z
URL:https://business.nocchamber.com/events/details/start-or-grow-your-business-use-business-model-canvas-16182
END:VEVENT

END:VCALENDAR
