BEGIN:VCALENDAR
VERSION:2.0
PRODID:-//ChamberMaster//Event Calendar 2.0//EN
METHOD:PUBLISH
X-PUBLISHED-TTL:P3D
REFRESH-INTERVAL:P3D
CALSCALE:GREGORIAN
BEGIN:VEVENT
DTSTART:20190502T000000Z
DTEND:20190502T020000Z
X-MICROSOFT-CDO-ALLDAYEVENT:FALSE
SUMMARY:Starbucks Coffee Friends and Family Open House
DESCRIPTION:Neighbors and Community members are invited to the Friends and Family Open House\, which will be held on Wednesday\, May 1st\, to celebrate the grand opening of the new Starbucks opening in Buena Park on 7611 Beach Blvd. Beverages and pastries will be served.\n\n\n\nThis Starbucks' first day open will be on Thursday May 2nd at 4:30 a.m.
X-ALT-DESC;FMTTYPE=text/html:Neighbors and Community members are invited to the Friends and Family Open House\, which will be held on Wednesday\, May 1st\, to celebrate the grand opening of the new Starbucks opening in Buena Park on 7611 Beach Blvd. Beverages and pastries will be served.<br />\n<br />\nThis Starbucks&#39\; first day open will be on Thursday May 2nd at 4:30 a.m.
LOCATION:7611 Beach Blvd. Buena Park\, CA 90620
UID:e.887.23293
SEQUENCE:3
DTSTAMP:20260422T054813Z
URL:https://business.nocchamber.com/events/details/starbucks-coffee-friends-and-family-open-house-23293
END:VEVENT

END:VCALENDAR
