BEGIN:VCALENDAR
VERSION:2.0
PRODID:-//ChamberMaster//Event Calendar 2.0//EN
METHOD:PUBLISH
X-PUBLISHED-TTL:P3D
REFRESH-INTERVAL:P3D
CALSCALE:GREGORIAN
BEGIN:VEVENT
DTSTART:20191210T200000Z
DTEND:20191210T210000Z
X-MICROSOFT-CDO-ALLDAYEVENT:FALSE
SUMMARY:Stanton Smiles Dentistry Ribbon Cutting Celebration
DESCRIPTION:Join us in celebrating the ribbon cutting ceremony for the opening of Stanton Smiles Dentistry. Attendees will enjoy raffles prizes\, refreshments and networking!
X-ALT-DESC;FMTTYPE=text/html:<span background-color:="" font-size:="" style="color: rgb(51\, 51\, 51)\; font-family: sans-serif\, Arial\, Verdana\, " trebuchet="">Join us in celebrating the ribbon cutting ceremony for the opening of Stanton Smiles </span>Dentistry.&nbsp\;<span background-color:="" font-size:="" style="color: rgb(51\, 51\, 51)\; font-family: sans-serif\, Arial\, Verdana\, " trebuchet="">Attendees will enjoy raffles prizes\, refreshments and networking!</span>
LOCATION:Stanton Smiles Dentistry 12919 Beach Boulevard Stanton\, CA 90680
UID:e.887.23813
SEQUENCE:3
DTSTAMP:20260421T202728Z
URL:https://business.nocchamber.com/events/details/stanton-smiles-dentistry-ribbon-cutting-celebration-23813
END:VEVENT

END:VCALENDAR
