BEGIN:VCALENDAR
VERSION:2.0
PRODID:-//ChamberMaster//Event Calendar 2.0//EN
METHOD:PUBLISH
X-PUBLISHED-TTL:P3D
REFRESH-INTERVAL:P3D
CALSCALE:GREGORIAN
BEGIN:VEVENT
DTSTART:20191019T170000Z
DTEND:20191019T203000Z
X-MICROSOFT-CDO-ALLDAYEVENT:FALSE
SUMMARY:Stanton's 16th Annual Senior Health & Wellness Expo
DESCRIPTION:Rowntree Gardens is hosting Stanton's 16th Annual Senior Health & Wellness Expo on October 19\, 2019 from 10:00 a.m. to 1:30 p.m.\n\n\n\nBeverly Bender MA\, CLLT & Gerontologist will demonstrate the science behind laughter\, play\, and health aging. She teaches people how to find humor in the everyday in order to promote physical and psychological well-being.\n\n\n\nEngage with a variety of vendors to help you enjoy a healthy\, active life.\n\n\n\nDiscover the health benefit of a sense of humor as Beverley Bender demonstrates the science behind how laughter and play promote healthy aging.\n\n	Free flu shots\, blood pressure testing\, and health screenings.\n	Nutritious snacks and smoothies. \n	Medicare/HICAP presentations.\n	Funny keynote address. \n	Lear about massage\, essential oils\, and therapy dogs.\n	Safety demonstrations. \n	Raffle giveaways.
X-ALT-DESC;FMTTYPE=text/html:Rowntree Gardens is hosting Stanton&#39\;s 16th Annual Senior Health &amp\; Wellness Expo on October 19\, 2019 from 10:00 a.m. to 1:30 p.m.<br />\n<br />\nBeverly Bender MA\, CLLT &amp\; Gerontologist will demonstrate the science behind laughter\, play\, and health aging. She teaches people how to find humor in the everyday in order to promote physical and psychological well-being.<br />\n<br />\nEngage with a variety of vendors to help you enjoy a healthy\, active life.<br />\n<br />\nDiscover the health benefit of a sense of humor as Beverley Bender demonstrates the science behind how laughter and play promote healthy aging.\n<ul>\n	<li>Free flu shots\, blood pressure testing\, and health screenings.</li>\n	<li>Nutritious snacks and smoothies.&nbsp\;</li>\n	<li>Medicare/HICAP presentations.</li>\n	<li>Funny keynote address.&nbsp\;</li>\n	<li>Lear about massage\, essential oils\, and therapy dogs.</li>\n	<li>Safety demonstrations.&nbsp\;</li>\n	<li>Raffle giveaways.</li>\n</ul>\n
LOCATION:Rowntree Gardens 12151 Dale Street Stanton\, CA 90680
UID:e.887.23710
SEQUENCE:3
DTSTAMP:20260421T231137Z
URL:https://business.nocchamber.com/events/details/stanton-s-16th-annual-senior-health-wellness-expo-23710
END:VEVENT

END:VCALENDAR
