BEGIN:VCALENDAR
VERSION:2.0
PRODID:-//ChamberMaster//Event Calendar 2.0//EN
METHOD:PUBLISH
X-PUBLISHED-TTL:P3D
REFRESH-INTERVAL:P3D
CALSCALE:GREGORIAN
BEGIN:VEVENT
DTSTART:20191026T230000Z
DTEND:20191027T030000Z
X-MICROSOFT-CDO-ALLDAYEVENT:FALSE
SUMMARY:Stanton Halloween Festival
DESCRIPTION:This event is open to ghouls and goblins of all ages and will feature games\, costume contests\, food booths\, crafts\, and more. \n\nThe event is free to attend and is sponsored by the Stanton Lions Club.\n\nFor additional information\, please call (714) 890-4270.\n\nRVSP on Facebook event page: https://www.facebook.com/events/2561188713964800/
X-ALT-DESC;FMTTYPE=text/html:<p background-color:="" color:="" open="" vertical-align:="">This&nbsp\;event is open to ghouls and goblins of all ages and will feature games\, costume contests\, food booths\, crafts\, and more.&nbsp\;</p>\n\n<p background-color:="" color:="" open="" vertical-align:="">The event is free to attend and is&nbsp\;sponsored by the Stanton Lions Club.<br />\nFor additional information\, please call (714) 890-4270.<br />\nRVSP on Facebook event page:&nbsp\;<a href="https://www.facebook.com/events/2561188713964800/">https://www.facebook.com/events/2561188713964800/</a></p>\n
LOCATION:Stanton Central Park 10660 Western Avenue Stanton\, CA 90680
UID:e.887.23785
SEQUENCE:3
DTSTAMP:20260421T230413Z
URL:https://business.nocchamber.com/events/details/stanton-halloween-festival-23785
END:VEVENT

END:VCALENDAR
