BEGIN:VCALENDAR
VERSION:2.0
PRODID:-//ChamberMaster//Event Calendar 2.0//EN
METHOD:PUBLISH
X-PUBLISHED-TTL:P3D
REFRESH-INTERVAL:P3D
CALSCALE:GREGORIAN
BEGIN:VEVENT
DTSTART:20180818T140000Z
DTEND:20180818T180000Z
X-MICROSOFT-CDO-ALLDAYEVENT:FALSE
SUMMARY:Stanton Community Clean-Up & Shred Day
DESCRIPTION:On Saturday\, August 18\, 2018\, at Stanton Park\, 11111 Cedar Street from 7:00 a.m. - 11:00 a.m.\, the City of Stanton and CR&R will be sponsoring a free clean-up event for all residential customers living within the City. Large items such as refrigerators\, sofas\, chairs and mattresses will be accepted.\n\n\n\nThe City will also be hosting a free community shred day at the clean-up event for Stanton residents to safely and securely dispose of unwanted and sensitive documents through onsite shredding.\n\n\n\nFor additional information\, please call the City Clerk's office at (714) 890-4245.
X-ALT-DESC;FMTTYPE=text/html:On Saturday\, August 18\, 2018\, at Stanton Park\, 11111 Cedar Street from 7:00 a.m. - 11:00 a.m.\, the City of Stanton and CR&amp\;R will be sponsoring a free clean-up event for all residential customers living within the City. Large items such as refrigerators\, sofas\, chairs and mattresses will be accepted.<br />\n<br />\nThe City will also be hosting a free community shred day at the clean-up event for Stanton residents to safely and securely dispose of unwanted and sensitive documents through onsite shredding.<br />\n<br />\nFor additional information\, please call the City Clerk&#39\;s office at (714) 890-4245.
LOCATION:Stanton Park 11111 Cedar St. Stanton\, CA 90680
UID:e.887.22526
SEQUENCE:3
DTSTAMP:20260422T123338Z
URL:https://business.nocchamber.com/events/details/stanton-community-clean-up-shred-day-22526
END:VEVENT

END:VCALENDAR
