BEGIN:VCALENDAR
VERSION:2.0
PRODID:-//ChamberMaster//Event Calendar 2.0//EN
METHOD:PUBLISH
X-PUBLISHED-TTL:P3D
REFRESH-INTERVAL:P3D
CALSCALE:GREGORIAN
BEGIN:VEVENT
DTSTART:20170425T183000Z
DTEND:20170425T200000Z
X-MICROSOFT-CDO-ALLDAYEVENT:FALSE
SUMMARY:Stanton Business Alliance
DESCRIPTION:Join the City of Stanton\, the North Orange County Chamber and the Stanton Business Community for the quarterly Stanton Business Alliance Lunch. This is a great opportunity to network with business professionals from around the region and connect with the city officials in Stanton.
X-ALT-DESC;FMTTYPE=text/html:Join the City of Stanton\, the North Orange County Chamber and the Stanton Business Community for the quarterly Stanton Business Alliance Lunch. This is a great opportunity to network with business professionals from around the region and connect with the city officials in Stanton.
LOCATION:Rowntree Gardens 12151 Dale St.\, Stanton\, CA 90680
UID:e.887.16013
SEQUENCE:3
DTSTAMP:20260421T150239Z
URL:https://business.nocchamber.com/events/details/stanton-business-alliance-16013
END:VEVENT

END:VCALENDAR
