BEGIN:VCALENDAR
VERSION:2.0
PRODID:-//ChamberMaster//Event Calendar 2.0//EN
METHOD:PUBLISH
X-PUBLISHED-TTL:P3D
REFRESH-INTERVAL:P3D
CALSCALE:GREGORIAN
BEGIN:VEVENT
DTSTART:20190401T153000Z
DTEND:20190402T020000Z
X-MICROSOFT-CDO-ALLDAYEVENT:FALSE
SUMMARY:St. Pius V Catholic School - 15th Annual Golf Tournament and Banquet
DESCRIPTION:St. Pius V Catholic School is hosting its 15th Annual Golf Tournament & Dinner on Monday\, April 1\, 2019.\n\n\n\nGolf & Dinner Entry Fee = $170\n\n	18 holes of golf at Los Coyotes Country Club\n	Golf cart with GPS scoring\n	Tournament hat\n	Buffer banquet & raffle attendance\n	Proper golf attire required - collared shirt / no jeans\n\nDinner Only Fee = $40 / person\n\n\n	Buffet banquet & raffle attendance\n\nThe entry deadline is March 25\, 2019.\n\n\n\n\n\nSponsorship opportunities are also available.\n\n\n\nPlatinum Sponsor = $1\,000+\n\n	Golf for Foursome\n	Tee Sign or Green Sign (Your choice of hole to display)\n	On-Course Banner Recognition\n	Program Recognition\n	School Website Recognition\n	Parish Bulletin Recognition\n	Reserved Table for 6 at Awards Dinner (4 golfers + 2 guests)\n\nGold Sponsor = $500\n\n\n	On-Course Banner Recognition\n	Tee Sign or Green Sign\n	Program & School Website Recognition\n	Parish Bulletin Recognition\n\nTee Sponsor = $150\n\n\n	On-Course Banner Recognition\n	One Tee Sign\n	Program & School Website Recognition\n\nGreen Sponsor = $150\n\n\n	On-Course Banner Recognition\n	One Green Sign\n	Program & School Website Recognition\n\nSchool Sponsor = $50\n\n\n	Program Recognition\n\n\n\nFor questions regarding sponsorship\, contact Lorraine Garcia at (714) 522-5313 or lgarcia@stpius5school.net
X-ALT-DESC;FMTTYPE=text/html:St. Pius V Catholic School is hosting its 15th Annual Golf Tournament &amp\; Dinner on Monday\, April 1\, 2019.<br />\n<br />\n<strong>Golf &amp\; Dinner Entry Fee = $170</strong>\n<ul>\n	<li>18 holes of golf at Los Coyotes Country Club</li>\n	<li>Golf cart with GPS scoring</li>\n	<li>Tournament hat</li>\n	<li>Buffer banquet &amp\; raffle attendance</li>\n	<li><em>Proper golf attire required - collared shirt / no jeans</em></li>\n</ul>\n<strong>Dinner Only Fee = $40 / person</strong>\n\n<ul>\n	<li>Buffet banquet &amp\; raffle attendance</li>\n</ul>\nThe entry deadline is March 25\, 2019.<br />\n<br />\n<br />\nSponsorship opportunities are also available.<br />\n<br />\nPlatinum Sponsor = $1\,000+\n<ul>\n	<li>Golf for Foursome</li>\n	<li>Tee Sign or Green Sign (Your choice of hole to display)</li>\n	<li>On-Course Banner Recognition</li>\n	<li>Program Recognition</li>\n	<li>School Website Recognition</li>\n	<li>Parish Bulletin Recognition</li>\n	<li>Reserved Table for 6 at Awards Dinner (4 golfers + 2 guests)</li>\n</ul>\nGold Sponsor = $500\n\n<ul>\n	<li>On-Course Banner Recognition</li>\n	<li>Tee Sign or Green Sign</li>\n	<li>Program &amp\; School Website Recognition</li>\n	<li>Parish Bulletin Recognition</li>\n</ul>\nTee Sponsor = $150\n\n<ul>\n	<li>On-Course Banner Recognition</li>\n	<li>One Tee Sign</li>\n	<li>Program &amp\; School Website Recognition</li>\n</ul>\nGreen Sponsor = $150\n\n<ul>\n	<li>On-Course Banner Recognition</li>\n	<li>One Green Sign</li>\n	<li>Program &amp\; School Website Recognition</li>\n</ul>\nSchool Sponsor = $50\n\n<ul>\n	<li>Program Recognition</li>\n</ul>\n<br />\nFor questions regarding sponsorship\, contact Lorraine Garcia at (714) 522-5313 or lgarcia@stpius5school.net
LOCATION:Los Coyotes Country Club 8888 Los Coyotes Dr. Buena Park\, CA 90621
UID:e.887.22977
SEQUENCE:3
DTSTAMP:20260422T065702Z
URL:https://business.nocchamber.com/events/details/st-pius-v-catholic-school-15th-annual-golf-tournament-and-banquet-22977
END:VEVENT

END:VCALENDAR
