BEGIN:VCALENDAR
VERSION:2.0
PRODID:-//ChamberMaster//Event Calendar 2.0//EN
METHOD:PUBLISH
X-PUBLISHED-TTL:P3D
REFRESH-INTERVAL:P3D
CALSCALE:GREGORIAN
BEGIN:VEVENT
DTSTART:20190223T173000Z
DTEND:20190223T200000Z
X-MICROSOFT-CDO-ALLDAYEVENT:FALSE
SUMMARY:St. Jude Hospital - Crosson Cancer Institute Open House
DESCRIPTION:St. Jude Hospital's Crosson Cancer Institute Open House: \n\n	Behind-the-scenes tours\n	Live demonstration of the Da Vinci Robot\n	Health screenings for heart disease (carotid artery)\, blood pressure\, osteoporosis (bone density test) and sun damage/skin cancer (DermaScan) and more\n	Activities for kids
X-ALT-DESC;FMTTYPE=text/html:St. Jude Hospital&#39\;s Crosson Cancer Institute Open House:&nbsp\;\n<ul>\n	<li>Behind-the-scenes tours</li>\n	<li>Live demonstration of the Da Vinci Robot</li>\n	<li>Health screenings for heart disease (carotid artery)\, blood pressure\, osteoporosis (bone density test) and sun damage/skin cancer (DermaScan) and more</li>\n	<li>Activities for kids&nbsp\;</li>\n</ul>\n
LOCATION:St. Jude Medical Plaza 2141-2151 N. Harbor Blvd. Fullerton\, CA 92835
UID:e.887.22960
SEQUENCE:3
DTSTAMP:20260422T091944Z
URL:https://business.nocchamber.com/events/details/st-jude-hospital-crosson-cancer-institute-open-house-22960
END:VEVENT

END:VCALENDAR
