BEGIN:VCALENDAR
VERSION:2.0
PRODID:-//ChamberMaster//Event Calendar 2.0//EN
METHOD:PUBLISH
X-PUBLISHED-TTL:P3D
REFRESH-INTERVAL:P3D
CALSCALE:GREGORIAN
BEGIN:VEVENT
DTSTART:20180331T150000Z
DTEND:20180331T220000Z
X-MICROSOFT-CDO-ALLDAYEVENT:FALSE
SUMMARY:Spring Eggstravaganza
DESCRIPTION:Come be a part of the "Egg-citement" this spring at Buena Park's very special Spring Eggstravaganza!  Activities include stage entertainment\, children's crafts\, field games\, a petting zoo\, moonbounces\, visits with the Spring Bunny\, and of course\, the candy scramble for children 12 years of age and younger.\n\nParents:  Don't cook breakfast! Come early and join us for a special Pancake Breakfast starting at 8:00 am sponsored by the Buena Park Noon Lions.\n\nActivities begin at 9:00 a.m.\n\nEgg Hunt for kids 12 yrs. and under begins at 12 p.m.!
X-ALT-DESC;FMTTYPE=text/html:<p>&#8203\;Come be a part of the &quot\;Egg-citement&quot\; this spring at Buena Park&#39\;s very special&nbsp\;Spring Eggstravaganza!&nbsp\; Activities include stage entertainment\, children&#39\;s&nbsp\;crafts\, field games\, a petting zoo\,&nbsp\;moonbounces\, visits with the Spring Bunny\, and of course\, the candy scramble&nbsp\;for children 12 years of age and younger.</p>\n\n<p>Parents:&nbsp\;&nbsp\;Don&#39\;t cook breakfast!&nbsp\;Come early and join&nbsp\;us for a special Pancake Breakfast starting at 8:00 am sponsored by the Buena Park Noon Lions.</p>\n\n<p>Activities begin at 9:00 a.m.</p>\n\n<p>Egg Hunt for kids 12 yrs. and under begins at 12 p.m.!</p>\n
LOCATION:Henry Boisseranc Park 7520 Dale Street Buena Park\, CA 90620
UID:e.887.21258
SEQUENCE:3
DTSTAMP:20260421T212151Z
URL:https://business.nocchamber.com/events/details/spring-eggstravaganza-21258
END:VEVENT

END:VCALENDAR
