BEGIN:VCALENDAR
VERSION:2.0
PRODID:-//ChamberMaster//Event Calendar 2.0//EN
METHOD:PUBLISH
X-PUBLISHED-TTL:P3D
REFRESH-INTERVAL:P3D
CALSCALE:GREGORIAN
BEGIN:VEVENT
DTSTART:20180412T220000Z
DTEND:20180413T000000Z
X-MICROSOFT-CDO-ALLDAYEVENT:FALSE
SUMMARY:Spring 2018 MICA Mixer and Tour Fullerton College Machine Technology Program
DESCRIPTION:Come to mix and mingle with fellow MICA members and the instructors and students for the next Made in California Open House. For those who are looking to fill vacant positions or grow your workforce\, this is an excellent opportunity to meet with the next generation of skilled workers.\n\n\n\nThe Fullerton College Machine Technology Program is one of the largest and best equipped machinist trade schools in the State of California. The program stresses conventional machining skills on engine lathes\, milling machines and grinders as core skills along with CNC machining and CNC programming courses. \n\n\n\nRefreshments will be served.
X-ALT-DESC;FMTTYPE=text/html:Come to mix and mingle with fellow MICA members and the instructors and students for the next&nbsp\;Made in California Open House. For those who are looking to fill vacant positions or grow your workforce\, this is an excellent opportunity to meet with the next generation of skilled workers.<br>\n<br>\nThe Fullerton College Machine Technology Program is one of the largest and best equipped machinist trade schools in the State of California. The program stresses conventional machining skills on engine lathes\, milling machines and grinders as core skills along with CNC machining and CNC programming courses.&nbsp\;<br>\n<br>\nRefreshments will be served.
LOCATION:Fullerton College ? Machine Technology 321 E. Chapman Avenue\, Bldg 900 Fullerton\, CA 92832 Limited free parking is available\, maps of the campus and parking areas will be e-mailed to you with your attendance confirmation.
UID:e.887.18230
SEQUENCE:3
DTSTAMP:20260422T004707Z
URL:https://business.nocchamber.com/events/details/spring-2018-mica-mixer-and-tour-fullerton-college-machine-technology-program-18230
END:VEVENT

END:VCALENDAR
