BEGIN:VCALENDAR
VERSION:2.0
PRODID:-//ChamberMaster//Event Calendar 2.0//EN
METHOD:PUBLISH
X-PUBLISHED-TTL:P3D
REFRESH-INTERVAL:P3D
CALSCALE:GREGORIAN
BEGIN:VEVENT
DTSTART:20180418T010000Z
DTEND:20180418T030000Z
X-MICROSOFT-CDO-ALLDAYEVENT:FALSE
SUMMARY:South Coast Air Quality Management District Community Meeting
DESCRIPTION:The South Coast Air Quality Management District (SCAQMD) invites you to attend this public meeting to learn about its curretn and future efforts. This meeting will provide a summary of how two new laws will reduce air pollution in our region:\n\n	Assembly Bill (AB) 134 provides funding to replace older heavy-duty vehicles\, equipment\, and other diesel sources in our region with new\, cleaner technologies.\n	AB 617 is a new exciting effort which will bring opportunities to collaborate with disadvantaged communities to improve air quality in areas that need it the most. The meeting will include a public comment\, question and answer portion for the community. \n\nWe encourage you to come!
X-ALT-DESC;FMTTYPE=text/html:The South Coast Air Quality Management District (SCAQMD) invites you to attend this public meeting to learn about its curretn and future efforts. This meeting will provide a summary of how two new laws will reduce air pollution in our region:\n<ul>\n	<li>Assembly Bill (AB) 134 provides funding to replace older heavy-duty vehicles\, equipment\, and other diesel sources in our region with new\, cleaner technologies.</li>\n	<li>AB 617 is a new exciting effort which will bring opportunities to collaborate with disadvantaged communities to improve air quality in areas that need it the most. The meeting will include a public comment\, question and answer portion for the community.&nbsp\;</li>\n</ul>\nWe encourage you to come!
LOCATION:Brookhurst Community Center 2271 W. Crescent Ave. CA 92801
UID:e.887.18210
SEQUENCE:3
DTSTAMP:20260422T005555Z
URL:https://business.nocchamber.com/events/details/south-coast-air-quality-management-district-community-meeting-18210
END:VEVENT

END:VCALENDAR
