BEGIN:VCALENDAR
VERSION:2.0
PRODID:-//ChamberMaster//Event Calendar 2.0//EN
METHOD:PUBLISH
X-PUBLISHED-TTL:P3D
REFRESH-INTERVAL:P3D
CALSCALE:GREGORIAN
BEGIN:VEVENT
DTSTART:20191124T210000Z
DTEND:20191124T230000Z
X-MICROSOFT-CDO-ALLDAYEVENT:FALSE
SUMMARY:Soroptimist International Buena Park - Holiday Craft & Cookies
DESCRIPTION:Soroptimist International of Buena Park will be holding a "Holiday Craft & Cookies" fundraiser. Attendees will make their own holiday wreaths. Holiday refreshments and sweets will be served.\n\n\n\nFunds will support scholarships for young girls and single mothers going back to college\, and to fund education programs for girls in third world countries.  \n\n\n\nRSVP by November 17.
X-ALT-DESC;FMTTYPE=text/html:Soroptimist International of Buena Park will be holding a &quot\;Holiday Craft &amp\; Cookies&quot\; fundraiser. Attendees will make their own holiday wreaths. Holiday refreshments and sweets will be served.<br />\n<br />\nFunds will support scholarships for young girls and single mothers going back to college\, and to fund education programs for girls in third world countries.&nbsp\;&nbsp\;<br />\n<br />\nRSVP by November 17.&nbsp\;&nbsp\;
LOCATION:5801 Somerset Street Buena Park\, CA 90621
UID:e.887.23809
SEQUENCE:3
DTSTAMP:20260421T230606Z
URL:https://business.nocchamber.com/events/details/soroptimist-international-buena-park-holiday-craft-cookies-23809
END:VEVENT

END:VCALENDAR
