BEGIN:VCALENDAR
VERSION:2.0
PRODID:-//ChamberMaster//Event Calendar 2.0//EN
METHOD:PUBLISH
X-PUBLISHED-TTL:P3D
REFRESH-INTERVAL:P3D
CALSCALE:GREGORIAN
BEGIN:VEVENT
DTSTART:20170506T173000Z
DTEND:20170507T000000Z
X-MICROSOFT-CDO-ALLDAYEVENT:FALSE
SUMMARY:SOKA University's 16th Annual International Festival
DESCRIPTION:900 Musicians and Dancers on 4 Stages\n\nArt\, Dance\, Games\n\nInternational Food\n\nChildren's Adventure Land\n\nAnd Much More!\n\nInternational Attire Encouraged
X-ALT-DESC;FMTTYPE=text/html:900 Musicians and Dancers on 4 Stages<br />\nArt\, Dance\, Games<br />\nInternational Food<br />\nChildren&rsquo\;s Adventure Land<br />\nAnd Much More!<br />\nInternational Attire Encouraged
LOCATION:Soka University 1 University Drive Aliso Viejo\, CA 92656 From I-5 exit at Oso/Pacific Park Drive\, west to Wood Canyon Drive. Turn left and go 1 mile
UID:e.887.16058
SEQUENCE:3
DTSTAMP:20260421T050512Z
URL:https://business.nocchamber.com/events/details/soka-university-s-16th-annual-international-festival-16058
END:VEVENT

END:VCALENDAR
