BEGIN:VCALENDAR
VERSION:2.0
PRODID:-//ChamberMaster//Event Calendar 2.0//EN
METHOD:PUBLISH
X-PUBLISHED-TTL:P3D
REFRESH-INTERVAL:P3D
CALSCALE:GREGORIAN
BEGIN:VEVENT
DTSTART:20170602T010000Z
DTEND:20170602T040000Z
X-MICROSOFT-CDO-ALLDAYEVENT:FALSE
SUMMARY:Social Security and Medicare Made Clear
DESCRIPTION:Thinking about your Social Security or Medicare Benefits? Government has made so many changes to the plans in the recent years. Have questions or concerns? You need to attend this workshop!
X-ALT-DESC;FMTTYPE=text/html:Thinking about your Social Security or Medicare Benefits? Government has made so many changes to the plans in the recent years. Have questions or concerns? You need to attend this workshop!
LOCATION:Brea Chamber of Commerce Conference Center 1 Civic Center Circle 2nd Floor Brea\, CA 92821
UID:e.887.16154
SEQUENCE:3
DTSTAMP:20260421T014742Z
URL:https://business.nocchamber.com/events/details/social-security-and-medicare-made-clear-16154
END:VEVENT

END:VCALENDAR
