BEGIN:VCALENDAR
VERSION:2.0
PRODID:-//ChamberMaster//Event Calendar 2.0//EN
METHOD:PUBLISH
X-PUBLISHED-TTL:P3D
REFRESH-INTERVAL:P3D
CALSCALE:GREGORIAN
BEGIN:VEVENT
DTSTART:20190917T153000Z
DTEND:20190917T220000Z
X-MICROSOFT-CDO-ALLDAYEVENT:FALSE
SUMMARY:SoCal Edison - Small Business Summit
DESCRIPTION:The small business summit\, hosted by Southern California Edison\, offers educational sessions and resources for small businesses and multiple networking opportunities.\n\n\n\nSCE is bringing together experts in six different areas critical to business growth\n\n	Access to capital\n	State incentives and programs\n	Business consulting services\n	Permitting assistance\n	Supplier diversity training & resources\n	Disaster preparedness \n\n\n\nKeynote: Lillian Conroe\, Small Business and Permit Specialist\, California Governor's Office of Business and Economic Development (GO-Biz)\n\n\n\n\n\nFeatured speakers:\n\n	Mark Robertson - Pacific Coast Regional Small Business Development Corporation\n	Mike Daniel - Small Business Development Center Network\n	Mike Nuby - SCE Economic Development Services\n	Tarrance Frierson - SCE Supplier Diversity\n	Debra Williams - Building Resilient Communities\n\nClick here to view the full flyer.
X-ALT-DESC;FMTTYPE=text/html:The small business summit\, hosted by Southern California Edison\, offers educational sessions and resources for small businesses and multiple networking opportunities.<br />\n<br />\nSCE is bringing together experts in six different areas critical to business growth\n<ul>\n	<li>Access to capital</li>\n	<li>State incentives and programs</li>\n	<li>Business consulting services</li>\n	<li>Permitting assistance</li>\n	<li>Supplier diversity training &amp\; resources</li>\n	<li>Disaster preparedness&nbsp\;</li>\n</ul>\n<br />\nKeynote: Lillian Conroe\, Small Business and Permit Specialist\, California Governor&rsquo\;s Office of Business and Economic Development (GO-Biz)<br />\n<br />\n<br />\nFeatured speakers:\n<ul>\n	<li>Mark Robertson - Pacific Coast Regional Small Business Development Corporation</li>\n	<li>Mike Daniel - Small Business Development Center Network</li>\n	<li>Mike Nuby - SCE Economic Development Services</li>\n	<li>Tarrance Frierson - SCE Supplier Diversity</li>\n	<li>Debra Williams - Building Resilient Communities</li>\n</ul>\n<a href="https://chambermaster.blob.core.windows.net/userfiles/UserFiles/chambers/887/File/SmallBusinessSummit9-17-19r4.pdf">Click here to view the full flyer.</a>
LOCATION:Energy Education Center Irwindale 6090 N Irwindale Ave. Irwindale\, CA 91702
UID:e.887.23690
SEQUENCE:3
DTSTAMP:20260422T001615Z
URL:https://business.nocchamber.com/events/details/socal-edison-small-business-summit-23690
END:VEVENT

END:VCALENDAR
