BEGIN:VCALENDAR
VERSION:2.0
PRODID:-//ChamberMaster//Event Calendar 2.0//EN
METHOD:PUBLISH
X-PUBLISHED-TTL:P3D
REFRESH-INTERVAL:P3D
CALSCALE:GREGORIAN
BEGIN:VEVENT
DTSTART:20180329T150000Z
DTEND:20180329T183000Z
X-MICROSOFT-CDO-ALLDAYEVENT:FALSE
SUMMARY:SoCal Economic Summit Presented by Corona Chamber Co-Sponsored by NOCC
DESCRIPTION:Speakers:\n\n- Dr. Robert Kleinhenz\, Economist and Executive Director of Research\, UC Riverside School of Business Center for Economic Forecasting and Development.\n\n UCR Center for Forecasting & Development Economist and Executive Director of Research\, Dr. Robert Kleinhenz will present a comprehensive forecast for the local economy as well as California and the U.S. Attendees will gain insight into the direction the economy will take over the near-term future. Dr. Kleinhenz will present a thorough analysis of the local economy as he discusses recent developments in industry employment and activity\, labor market conditions\, and real estate. He will also explain how state and national trends in the economy and policy are affecting the local economy\, its businesses\, and its residents.\n\n\n\n- Tim Rainey\, Executive Director\, California Workforce Development Board \n\n- Darrell Talbert\, City Manager\, City of Corona \n\n- Dr. Bryan Reece\, President\, Norco College \n\n- Rob Field\, Assistant CEO\, Riverside County Economic Development Agency
X-ALT-DESC;FMTTYPE=text/html:<span style="font-size:14px\;"><span style="background-position: initial\; margin: 0px\; padding: 0px\; border-radius: 0px\; border: medium\; border-image: none\; left: auto\; top: auto\; width: auto\; height: auto\; right: auto\; bottom: auto\; background-image: none\; line-height: inherit\; overflow: visible\; clear: none\; font-family: Calibri\,Arial\,Helvetica\,sans-serif\; font-weight: bolder\; background-repeat: initial\; background-attachment: initial\; vertical-align: baseline\; visibility: inherit\; border-collapse: separate\; position: static\; z-index: auto\; table-layout: auto\; direction: inherit\; word-break: inherit\; word-wrap: inherit\; text-overflow: clip\; min-height: initial\; max-height: none\; min-width: initial\; max-width: none\; content: normal\; box-sizing: content-box\; empty-cells: show\; font-stretch: inherit\; opacity: 1\; background-clip: initial\; background-origin: initial\; background-size: initial\; box-shadow: none\;">Speakers:<br style="box-sizing: content-box\; bottom: auto\; clear: none\; color: inherit\; content: normal\; direction: inherit\; display: inline\; empty-cells: show\; float: none\; font-style: inherit\; font-variant: inherit\; font-weight: inherit\; font-stretch: inherit\; font-size: inherit\; font-family: inherit\; left: auto\; letter-spacing: inherit\; line-height: inherit\; margin: 0px\; max-height: none\; max-width: none\; min-height: initial\; min-width: initial\; opacity: 1\; outline-offset: 0px\; overflow: visible\; padding: 0px\; position: static\; resize: none\; right: auto\; table-layout: auto\; text-align: inherit\; text-indent: inherit\; text-overflow: clip\; text-transform: inherit\; top: auto\; vertical-align: baseline\; visibility: inherit\; white-space: inherit\; word-break: inherit\; word-spacing: inherit\; word-wrap: inherit\; z-index: auto\; background: none\; border: none\; border-collapse: separate\; border-radius: 0px\; height: auto\; width: auto\;" />\n- Dr. Robert&nbsp\;Kleinhenz</span><span style="font-family: Calibri\,Arial\,Helvetica\,sans-serif\;">\, Economist and Executive Director of Research\,&nbsp\;UC Riverside School of Business Center for Economic Forecasting and Development.</span><br style="box-sizing: content-box\; bottom: auto\; clear: none\; content: normal\; direction: inherit\; display: inline\; empty-cells: show\; float: none\; font-variant-numeric: inherit\; font-variant-east-asian: inherit\; font-stretch: inherit\; font-size: 16px\; font-family: Calibri\, Arial\, Helvetica\, sans-serif\; left: auto\; line-height: inherit\; margin: 0px\; max-height: none\; max-width: none\; min-height: initial\; min-width: initial\; opacity: 1\; outline-offset: 0px\; overflow: visible\; padding: 0px\; position: static\; resize: none\; right: auto\; table-layout: auto\; text-overflow: clip\; top: auto\; vertical-align: baseline\; visibility: inherit\; word-break: inherit\; word-wrap: inherit\; z-index: auto\; background-image: none\; background-position: initial\; background-size: initial\; background-repeat: initial\; background-attachment: initial\; background-origin: initial\; background-clip: initial\; border: none\; border-collapse: separate\; border-radius: 0px\; height: auto\; width: auto\;" />\n<span style="background-position: initial\; margin: 0px\; padding: 0px\; border-radius: 0px\; border: medium\; border-image: none\; left: auto\; top: auto\; width: auto\; height: auto\; right: auto\; bottom: auto\; background-image: none\; line-height: inherit\; overflow: visible\; clear: none\; font-family: helvetica\; background-repeat: initial\; background-attachment: initial\; vertical-align: baseline\; visibility: inherit\; border-collapse: separate\; position: static\; z-index: auto\; table-layout: auto\; direction: inherit\; word-break: inherit\; word-wrap: inherit\; text-overflow: clip\; min-height: initial\; max-height: none\; min-width: initial\; max-width: none\; content: normal\; box-sizing: content-box\; empty-cells: show\; font-stretch: inherit\; opacity: 1\; background-clip: initial\; background-origin: initial\; background-size: initial\; box-shadow: none\;"><span style="background: none\; margin: 0px\; padding: 0px\; border-radius: 0px\; border: medium\; border-image: none\; left: auto\; top: auto\; width: auto\; height: auto\; text-align: inherit\; right: auto\; bottom: auto\; color: inherit\; text-transform: inherit\; line-height: inherit\; text-indent: inherit\; letter-spacing: inherit\; overflow: visible\; clear: none\; font-family: inherit\; font-style: inherit\; font-variant: inherit\; font-weight: inherit\; word-spacing: inherit\; vertical-align: baseline\; white-space: inherit\; visibility: inherit\; border-collapse: separate\; position: static\; z-index: auto\; table-layout: auto\; direction: inherit\; word-break: inherit\; word-wrap: inherit\; text-overflow: clip\; min-height: initial\; max-height: none\; min-width: initial\; max-width: none\; content: normal\; box-sizing: content-box\; empty-cells: show\; font-stretch: inherit\; opacity: 1\; box-shadow: none\;">&#8203\;UCR Center for Forecasting &amp\; Development Economist and Executive Director of Research\, Dr. Robert Kleinhenz will present a comprehensive forecast for the local economy as well as California and the U.S. Attendees will gain insight into the direction the economy will take over the near-term future. Dr. Kleinhenz will present a thorough analysis of the local economy as he discusses recent developments in industry employment and activity\, labor market conditions\, and real estate. He will also explain how state and national trends in the economy and policy are affecting the local economy\, its businesses\, and its residents.</span></span><br style="box-sizing: content-box\; bottom: auto\; clear: none\; content: normal\; direction: inherit\; display: inline\; empty-cells: show\; float: none\; font-variant-numeric: inherit\; font-variant-east-asian: inherit\; font-stretch: inherit\; font-size: 16px\; font-family: Calibri\, Arial\, Helvetica\, sans-serif\; left: auto\; line-height: inherit\; margin: 0px\; max-height: none\; max-width: none\; min-height: initial\; min-width: initial\; opacity: 1\; outline-offset: 0px\; overflow: visible\; padding: 0px\; position: static\; resize: none\; right: auto\; table-layout: auto\; text-overflow: clip\; top: auto\; vertical-align: baseline\; visibility: inherit\; word-break: inherit\; word-wrap: inherit\; z-index: auto\; background-image: none\; background-position: initial\; background-size: initial\; background-repeat: initial\; background-attachment: initial\; background-origin: initial\; background-clip: initial\; border: none\; border-collapse: separate\; border-radius: 0px\; height: auto\; width: auto\;" />\n<br style="box-sizing: content-box\; bottom: auto\; clear: none\; content: normal\; direction: inherit\; display: inline\; empty-cells: show\; float: none\; font-variant-numeric: inherit\; font-variant-east-asian: inherit\; font-stretch: inherit\; font-size: 16px\; font-family: Calibri\, Arial\, Helvetica\, sans-serif\; left: auto\; line-height: inherit\; margin: 0px\; max-height: none\; max-width: none\; min-height: initial\; min-width: initial\; opacity: 1\; outline-offset: 0px\; overflow: visible\; padding: 0px\; position: static\; resize: none\; right: auto\; table-layout: auto\; text-overflow: clip\; top: auto\; vertical-align: baseline\; visibility: inherit\; word-break: inherit\; word-wrap: inherit\; z-index: auto\; background-image: none\; background-position: initial\; background-size: initial\; background-repeat: initial\; background-attachment: initial\; background-origin: initial\; background-clip: initial\; border: none\; border-collapse: separate\; border-radius: 0px\; height: auto\; width: auto\;" />\n<span style="background-position: initial\; margin: 0px\; padding: 0px\; border-radius: 0px\; border: medium\; border-image: none\; left: auto\; top: auto\; width: auto\; height: auto\; right: auto\; bottom: auto\; background-image: none\; line-height: inherit\; overflow: visible\; clear: none\; font-family: Calibri\,Arial\,Helvetica\,sans-serif\; font-weight: bolder\; background-repeat: initial\; background-attachment: initial\; vertical-align: baseline\; visibility: inherit\; border-collapse: separate\; position: static\; z-index: auto\; table-layout: auto\; direction: inherit\; word-break: inherit\; word-wrap: inherit\; text-overflow: clip\; min-height: initial\; max-height: none\; min-width: initial\; max-width: none\; content: normal\; box-sizing: content-box\; empty-cells: show\; font-stretch: inherit\; opacity: 1\; background-clip: initial\; background-origin: initial\; background-size: initial\; box-shadow: none\;">- Tim Rainey</span><span style="font-family: Calibri\,Arial\,Helvetica\,sans-serif\;">\, Executive Director\, California Workforce Development Board&nbsp\;</span><br style="box-sizing: content-box\; bottom: auto\; clear: none\; content: normal\; direction: inherit\; display: inline\; empty-cells: show\; float: none\; font-variant-numeric: inherit\; font-variant-east-asian: inherit\; font-stretch: inherit\; font-size: 16px\; font-family: Calibri\, Arial\, Helvetica\, sans-serif\; left: auto\; line-height: inherit\; margin: 0px\; max-height: none\; max-width: none\; min-height: initial\; min-width: initial\; opacity: 1\; outline-offset: 0px\; overflow: visible\; padding: 0px\; position: static\; resize: none\; right: auto\; table-layout: auto\; text-overflow: clip\; top: auto\; vertical-align: baseline\; visibility: inherit\; word-break: inherit\; word-wrap: inherit\; z-index: auto\; background-image: none\; background-position: initial\; background-size: initial\; background-repeat: initial\; background-attachment: initial\; background-origin: initial\; background-clip: initial\; border: none\; border-collapse: separate\; border-radius: 0px\; height: auto\; width: auto\;" />\n<span style="background-position: initial\; margin: 0px\; padding: 0px\; border-radius: 0px\; border: medium\; border-image: none\; left: auto\; top: auto\; width: auto\; height: auto\; right: auto\; bottom: auto\; background-image: none\; line-height: inherit\; overflow: visible\; clear: none\; font-family: Calibri\,Arial\,Helvetica\,sans-serif\; font-weight: bolder\; background-repeat: initial\; background-attachment: initial\; vertical-align: baseline\; visibility: inherit\; border-collapse: separate\; position: static\; z-index: auto\; table-layout: auto\; direction: inherit\; word-break: inherit\; word-wrap: inherit\; text-overflow: clip\; min-height: initial\; max-height: none\; min-width: initial\; max-width: none\; content: normal\; box-sizing: content-box\; empty-cells: show\; font-stretch: inherit\; opacity: 1\; background-clip: initial\; background-origin: initial\; background-size: initial\; box-shadow: none\;">- Darrell Talbert</span><span style="font-family: Calibri\,Arial\,Helvetica\,sans-serif\;">\, City Manager\, City of Corona&nbsp\;</span><br style="box-sizing: content-box\; bottom: auto\; clear: none\; content: normal\; direction: inherit\; display: inline\; empty-cells: show\; float: none\; font-variant-numeric: inherit\; font-variant-east-asian: inherit\; font-stretch: inherit\; font-size: 16px\; font-family: Calibri\, Arial\, Helvetica\, sans-serif\; left: auto\; line-height: inherit\; margin: 0px\; max-height: none\; max-width: none\; min-height: initial\; min-width: initial\; opacity: 1\; outline-offset: 0px\; overflow: visible\; padding: 0px\; position: static\; resize: none\; right: auto\; table-layout: auto\; text-overflow: clip\; top: auto\; vertical-align: baseline\; visibility: inherit\; word-break: inherit\; word-wrap: inherit\; z-index: auto\; background-image: none\; background-position: initial\; background-size: initial\; background-repeat: initial\; background-attachment: initial\; background-origin: initial\; background-clip: initial\; border: none\; border-collapse: separate\; border-radius: 0px\; height: auto\; width: auto\;" />\n<span style="background-position: initial\; margin: 0px\; padding: 0px\; border-radius: 0px\; border: medium\; border-image: none\; left: auto\; top: auto\; width: auto\; height: auto\; right: auto\; bottom: auto\; background-image: none\; line-height: inherit\; overflow: visible\; clear: none\; font-family: Calibri\,Arial\,Helvetica\,sans-serif\; font-weight: bolder\; background-repeat: initial\; background-attachment: initial\; vertical-align: baseline\; visibility: inherit\; border-collapse: separate\; position: static\; z-index: auto\; table-layout: auto\; direction: inherit\; word-break: inherit\; word-wrap: inherit\; text-overflow: clip\; min-height: initial\; max-height: none\; min-width: initial\; max-width: none\; content: normal\; box-sizing: content-box\; empty-cells: show\; font-stretch: inherit\; opacity: 1\; background-clip: initial\; background-origin: initial\; background-size: initial\; box-shadow: none\;">- Dr. Bryan Reece</span><span style="font-family: Calibri\,Arial\,Helvetica\,sans-serif\;">\, President\, Norco College&nbsp\;</span><br style="box-sizing: content-box\; bottom: auto\; clear: none\; content: normal\; direction: inherit\; display: inline\; empty-cells: show\; float: none\; font-variant-numeric: inherit\; font-variant-east-asian: inherit\; font-stretch: inherit\; font-size: 16px\; font-family: Calibri\, Arial\, Helvetica\, sans-serif\; left: auto\; line-height: inherit\; margin: 0px\; max-height: none\; max-width: none\; min-height: initial\; min-width: initial\; opacity: 1\; outline-offset: 0px\; overflow: visible\; padding: 0px\; position: static\; resize: none\; right: auto\; table-layout: auto\; text-overflow: clip\; top: auto\; vertical-align: baseline\; visibility: inherit\; word-break: inherit\; word-wrap: inherit\; z-index: auto\; background-image: none\; background-position: initial\; background-size: initial\; background-repeat: initial\; background-attachment: initial\; background-origin: initial\; background-clip: initial\; border: none\; border-collapse: separate\; border-radius: 0px\; height: auto\; width: auto\;" />\n<span style="background-position: initial\; margin: 0px\; padding: 0px\; border-radius: 0px\; border: medium\; border-image: none\; left: auto\; top: auto\; width: auto\; height: auto\; right: auto\; bottom: auto\; background-image: none\; line-height: inherit\; overflow: visible\; clear: none\; font-family: Calibri\,Arial\,Helvetica\,sans-serif\; font-weight: bolder\; background-repeat: initial\; background-attachment: initial\; vertical-align: baseline\; visibility: inherit\; border-collapse: separate\; position: static\; z-index: auto\; table-layout: auto\; direction: inherit\; word-break: inherit\; word-wrap: inherit\; text-overflow: clip\; min-height: initial\; max-height: none\; min-width: initial\; max-width: none\; content: normal\; box-sizing: content-box\; empty-cells: show\; font-stretch: inherit\; opacity: 1\; background-clip: initial\; background-origin: initial\; background-size: initial\; box-shadow: none\;">- Rob Field</span><span style="font-family: Calibri\,Arial\,Helvetica\,sans-serif\;">\, Assistant CEO\, Riverside County Economic Development Agency&nbsp\;</span></span>
LOCATION:Crossroads Christian Church 2331 Kellogg Ave. Corona\, CA 92881
UID:e.887.17771
SEQUENCE:3
DTSTAMP:20260421T233412Z
URL:https://business.nocchamber.com/events/details/socal-economic-summit-presented-by-corona-chamber-co-sponsored-by-nocc-17771
END:VEVENT

END:VCALENDAR
