BEGIN:VCALENDAR
VERSION:2.0
PRODID:-//ChamberMaster//Event Calendar 2.0//EN
METHOD:PUBLISH
X-PUBLISHED-TTL:P3D
REFRESH-INTERVAL:P3D
CALSCALE:GREGORIAN
BEGIN:VEVENT
DTSTART:20190711T200000Z
DTEND:20190712T000000Z
X-MICROSOFT-CDO-ALLDAYEVENT:FALSE
SUMMARY:Small Business Workshop: Hidden Rules to Working with Prime Contractors
DESCRIPTION:Participants will learn ways to improve their business efficiency and effectiveness by understanding common expectations among prime contractors and large business entities. Participants will discuss the varying distinctions that allow some companies to thrive and succeed in larger marketplace opportunities.\n\n\n\nObjectives:\n\nLearn how to know what you don't know\n\nUnderstand the common expectations of prime contractors\n\nLearn strategies to stay competitive to succeed in the global marketplace\n\n\n\nLearn more about certification from the following speakers:\n\n	Michael Herrera - Supplier Diversity & Development Program Manager\, Southern California Edison on California Public Utilities Commission Certification\n	Joel Mendez - President\, Long Beach Gay & Lesbian Chamber of Commerce - Affiliate Partner of the National LGBT Chamber of Commerce\n	William Osgood - President & CEO\, CFR & Associates\, Small Business & Veteran Advocate & Certified Business Coach
X-ALT-DESC;FMTTYPE=text/html:Participants will learn ways to improve their business efficiency and effectiveness by understanding common expectations among prime contractors and large business entities. Participants will discuss the varying distinctions that allow some companies to thrive and succeed in larger marketplace opportunities.<br />\n<br />\nObjectives:<br />\nLearn how to know what you don&#39\;t know<br />\nUnderstand the common expectations of prime contractors<br />\nLearn strategies to stay competitive to succeed in the global marketplace<br />\n<br />\nLearn more about certification from the following speakers:\n<ul font-size:="" new="" times="">\n	<li>Michael Herrera&nbsp\;-&nbsp\;Supplier Diversity &amp\; Development Program Manager\, Southern California Edison on California Public Utilities Commission Certification</li>\n	<li>Joel Mendez&nbsp\;- President\, Long Beach Gay &amp\; Lesbian Chamber of Commerce - Affiliate Partner of the National LGBT Chamber of Commerce</li>\n	<li>William Osgood&nbsp\;- President &amp\; CEO\, CFR &amp\; Associates\, Small Business &amp\; Veteran Advocate &amp\; Certified Business Coach</li>\n</ul>\n
LOCATION:Delta by Marriott - Garden Grove 12021 Harbor Blvd Garden Grove\, CA 92840
UID:e.887.23387
SEQUENCE:3
DTSTAMP:20260422T030401Z
URL:https://business.nocchamber.com/events/details/small-business-workshop-hidden-rules-to-working-with-prime-contractors-23387
END:VEVENT

END:VCALENDAR
